BEGIN:VCALENDAR
VERSION:2.0
PRODID:-//Options Domestic &amp; Sexual Violence Services for Northwest Kansas - ECPv6.15.20//NONSGML v1.0//EN
CALSCALE:GREGORIAN
METHOD:PUBLISH
X-WR-CALNAME:Options Domestic &amp; Sexual Violence Services for Northwest Kansas
X-ORIGINAL-URL:https://help4abuse.org
X-WR-CALDESC:Events for Options Domestic &amp; Sexual Violence Services for Northwest Kansas
REFRESH-INTERVAL;VALUE=DURATION:PT1H
X-Robots-Tag:noindex
X-PUBLISHED-TTL:PT1H
BEGIN:VTIMEZONE
TZID:America/Chicago
BEGIN:DAYLIGHT
TZOFFSETFROM:-0600
TZOFFSETTO:-0500
TZNAME:CDT
DTSTART:20250309T080000
END:DAYLIGHT
BEGIN:STANDARD
TZOFFSETFROM:-0500
TZOFFSETTO:-0600
TZNAME:CST
DTSTART:20251102T070000
END:STANDARD
BEGIN:DAYLIGHT
TZOFFSETFROM:-0600
TZOFFSETTO:-0500
TZNAME:CDT
DTSTART:20260308T080000
END:DAYLIGHT
BEGIN:STANDARD
TZOFFSETFROM:-0500
TZOFFSETTO:-0600
TZNAME:CST
DTSTART:20261101T070000
END:STANDARD
BEGIN:DAYLIGHT
TZOFFSETFROM:-0600
TZOFFSETTO:-0500
TZNAME:CDT
DTSTART:20270314T080000
END:DAYLIGHT
BEGIN:STANDARD
TZOFFSETFROM:-0500
TZOFFSETTO:-0600
TZNAME:CST
DTSTART:20271107T070000
END:STANDARD
END:VTIMEZONE
BEGIN:VEVENT
DTSTART;VALUE=DATE:20260402
DTEND;VALUE=DATE:20260429
DTSTAMP:20260421T154101
CREATED:20260324T145532Z
LAST-MODIFIED:20260324T145532Z
UID:4012-1775088000-1777420799@help4abuse.org
SUMMARY:What Were You Wearing exhibit at Plainville Memorial Library
DESCRIPTION:Join us for the “What Were You Wearing?” exhibit at the Plainville Memorial Library This powerful installation challenges common myths about sexual assault by displaying narratives from survivors alongside recreated outfits based on their experiences. \nThe exhibit is designed to spark conversation\, increase awareness\, and reinforce the message that clothing does not cause assault—perpetrators do. Students\, faculty\, staff\, and community members are encouraged to attend\, reflect\, and engage in meaningful dialogue about prevention and support. \nExhibit is open during library operating hours. Advocates are available 24/7 by calling 800-794-4624 or by texting HOPE to 847411.
URL:https://help4abuse.org/event/what-were-you-wearing-exhibit-at-plainville-memorial-library/
END:VEVENT
BEGIN:VEVENT
DTSTART;VALUE=DATE:20260402
DTEND;VALUE=DATE:20260429
DTSTAMP:20260421T154101
CREATED:20260324T145712Z
LAST-MODIFIED:20260324T145712Z
UID:4014-1775088000-1777420799@help4abuse.org
SUMMARY:What Were You Wearing exhibit at Stockton Public Library
DESCRIPTION:Join us for the “What Were You Wearing?” exhibit at the Stockton Public Library. This powerful installation challenges common myths about sexual assault by displaying narratives from survivors alongside recreated outfits based on their experiences. \nThe exhibit is designed to spark conversation\, increase awareness\, and reinforce the message that clothing does not cause assault—perpetrators do. Students\, faculty\, staff\, and community members are encouraged to attend\, reflect\, and engage in meaningful dialogue about prevention and support. \nExhibit is open during library operating hours. Advocates are available 24/7 by calling 800-794-4624 or by texting HOPE to 847411.
URL:https://help4abuse.org/event/what-were-you-wearing-exhibit-at-stockton-public-library/
END:VEVENT
BEGIN:VEVENT
DTSTART;VALUE=DATE:20260402
DTEND;VALUE=DATE:20260501
DTSTAMP:20260421T154101
CREATED:20260324T145349Z
LAST-MODIFIED:20260324T145349Z
UID:4010-1775088000-1777593599@help4abuse.org
SUMMARY:What Were You Wearing exhibit at Smith Center Library
DESCRIPTION:Join us for the “What Were You Wearing?” exhibit at the Smith Center Library This powerful installation challenges common myths about sexual assault by displaying narratives from survivors alongside recreated outfits based on their experiences. \nThe exhibit is designed to spark conversation\, increase awareness\, and reinforce the message that clothing does not cause assault—perpetrators do. Students\, faculty\, staff\, and community members are encouraged to attend\, reflect\, and engage in meaningful dialogue about prevention and support. \nExhibit is open during library operating hours. Advocates are available 24/7 by calling 800-794-4624 or by texting HOPE to 847411.
URL:https://help4abuse.org/event/what-were-you-wearing-exhibit-at-smith-center-library/
END:VEVENT
BEGIN:VEVENT
DTSTART;VALUE=DATE:20260407
DTEND;VALUE=DATE:20260429
DTSTAMP:20260421T154101
CREATED:20260324T145820Z
LAST-MODIFIED:20260324T145820Z
UID:4016-1775520000-1777420799@help4abuse.org
SUMMARY:What Were You Wearing exhibit at Phillipsburg City Library
DESCRIPTION:Join us for the “What Were You Wearing?” exhibit at the Phillipsburg City Library. This powerful installation challenges common myths about sexual assault by displaying narratives from survivors alongside recreated outfits based on their experiences. \nThe exhibit is designed to spark conversation\, increase awareness\, and reinforce the message that clothing does not cause assault—perpetrators do. Students\, faculty\, staff\, and community members are encouraged to attend\, reflect\, and engage in meaningful dialogue about prevention and support. \nExhibit is open during library operating hours. Advocates are available 24/7 by calling 800-794-4624 or by texting HOPE to 847411.
URL:https://help4abuse.org/event/what-were-you-wearing-exhibit-at-phillipsburg-city-library/
END:VEVENT
BEGIN:VEVENT
DTSTART;VALUE=DATE:20260409
DTEND;VALUE=DATE:20260501
DTSTAMP:20260421T154101
CREATED:20260324T145905Z
LAST-MODIFIED:20260324T145905Z
UID:4018-1775692800-1777593599@help4abuse.org
SUMMARY:What Were You Wearing exhibit at Oakley Public Library
DESCRIPTION:Join us for the “What Were You Wearing?” exhibit at the Oakley Public Library. This powerful installation challenges common myths about sexual assault by displaying narratives from survivors alongside recreated outfits based on their experiences. \nThe exhibit is designed to spark conversation\, increase awareness\, and reinforce the message that clothing does not cause assault—perpetrators do. Students\, faculty\, staff\, and community members are encouraged to attend\, reflect\, and engage in meaningful dialogue about prevention and support. \nExhibit is open during library operating hours. Advocates are available 24/7 by calling 800-794-4624 or by texting HOPE to 847411.
URL:https://help4abuse.org/event/what-were-you-wearing-exhibit-at-oakley-public-library/
END:VEVENT
BEGIN:VEVENT
DTSTART;TZID=America/Chicago:20260421T173000
DTEND;TZID=America/Chicago:20260421T190000
DTSTAMP:20260421T154101
CREATED:20260318T162609Z
LAST-MODIFIED:20260318T162609Z
UID:3965-1776792600-1776798000@help4abuse.org
SUMMARY:Colby Support Group – Adult Domestic Violence
DESCRIPTION:Join our domestic violence support group\, a safe and compassionate space for survivors to connect\, share\, and uplift each other. Tuesdays at 5:30 PM at our Colby Office\, 1480 W 4th St. (Zoom is available). For more details\, call our office at 785-625-4202.
URL:https://help4abuse.org/event/colby-support-group-adult-domestic-violence-77/
LOCATION:Options Colby Office\, 1480 W 4th St\, Colby\, KS\, 67701\, United States
END:VEVENT
BEGIN:VEVENT
DTSTART;TZID=America/Chicago:20260422T173000
DTEND;TZID=America/Chicago:20260422T190000
DTSTAMP:20260421T154101
CREATED:20260318T163505Z
LAST-MODIFIED:20260318T163505Z
UID:3981-1776879000-1776884400@help4abuse.org
SUMMARY:Hays Support Group – Adult Domestic Violence
DESCRIPTION:Join our domestic violence support group\, a safe and compassionate space for survivors to connect\, share\, and uplift each other. Wednesdays at 5:30 PM at our Hays Office\, 2716 Plaza Ave. (Zoom is available). Childcare can be provided upon request. For more details\, call our office at 785-625-4202.
URL:https://help4abuse.org/event/hays-support-group-adult-domestic-violence-79/
LOCATION:Options Hays Office\, 2716 Plaza Ave\, Hays\, KS\, 67601\, United States
END:VEVENT
BEGIN:VEVENT
DTSTART;TZID=America/Chicago:20260423T110000
DTEND;TZID=America/Chicago:20260423T140000
DTSTAMP:20260421T154101
CREATED:20260324T144712Z
LAST-MODIFIED:20260324T144712Z
UID:4006-1776942000-1776952800@help4abuse.org
SUMMARY:Walk A Mile CCC
DESCRIPTION:Walk A Mile focuses on gender-based violence. To make a public stand against it\, men wear high heeled shoes to literally “walk a mile in her shoes.”\nThis awareness event is a great way to speak out against sexual violence during Sexual Violence Awareness Month!\nJoin us in the Union at CCC to be a part of this awareness event.
URL:https://help4abuse.org/event/walk-a-mile-ccc/
LOCATION:Colby Community College\, 1255 S Range Ave\, Colby\, KS\, 67701\, United States
END:VEVENT
BEGIN:VEVENT
DTSTART;TZID=America/Chicago:20260425T090000
DTEND;TZID=America/Chicago:20260425T160000
DTSTAMP:20260421T154101
CREATED:20260324T144933Z
LAST-MODIFIED:20260324T144933Z
UID:4008-1777107600-1777132800@help4abuse.org
SUMMARY:Student Advisory Board Bake Sale and Art Walk
DESCRIPTION:Art + sweets = the perfect combo 🎨🍪Join our Student Advisory Board during the Spring Art Walk for a bake sale full of delicious treats. Grab something sweet and support a great cause while you explore!
URL:https://help4abuse.org/event/student-advisory-board-bake-sale-and-art-walk/
LOCATION:Breathe Coffee House\, 703 B Main St\, Hays\, KS\, 67601\, United States
END:VEVENT
BEGIN:VEVENT
DTSTART;TZID=America/Chicago:20260428T173000
DTEND;TZID=America/Chicago:20260428T190000
DTSTAMP:20260421T154101
CREATED:20260318T162747Z
LAST-MODIFIED:20260318T162747Z
UID:3969-1777397400-1777402800@help4abuse.org
SUMMARY:Colby Support Group – Adult Domestic Violence
DESCRIPTION:Join our domestic violence support group\, a safe and compassionate space for survivors to connect\, share\, and uplift each other. Tuesdays at 5:30 PM at our Colby Office\, 1480 W 4th St. (Zoom is available). For more details\, call our office at 785-625-4202.
URL:https://help4abuse.org/event/colby-support-group-adult-domestic-violence-79/
LOCATION:Options Colby Office\, 1480 W 4th St\, Colby\, KS\, 67701\, United States
END:VEVENT
BEGIN:VEVENT
DTSTART;TZID=America/Chicago:20260429T173000
DTEND;TZID=America/Chicago:20260429T190000
DTSTAMP:20260421T154101
CREATED:20260318T163555Z
LAST-MODIFIED:20260318T163555Z
UID:3983-1777483800-1777489200@help4abuse.org
SUMMARY:Hays Support Group – Adult Domestic Violence
DESCRIPTION:Join our domestic violence support group\, a safe and compassionate space for survivors to connect\, share\, and uplift each other. Wednesdays at 5:30 PM at our Hays Office\, 2716 Plaza Ave. (Zoom is available). Childcare can be provided upon request. For more details\, call our office at 785-625-4202.
URL:https://help4abuse.org/event/hays-support-group-adult-domestic-violence-80/
LOCATION:Options Hays Office\, 2716 Plaza Ave\, Hays\, KS\, 67601\, United States
END:VEVENT
END:VCALENDAR