BEGIN:VCALENDAR
VERSION:2.0
PRODID:-//Options Domestic &amp; Sexual Violence Services for Northwest Kansas - ECPv6.15.20//NONSGML v1.0//EN
CALSCALE:GREGORIAN
METHOD:PUBLISH
X-WR-CALNAME:Options Domestic &amp; Sexual Violence Services for Northwest Kansas
X-ORIGINAL-URL:https://help4abuse.org
X-WR-CALDESC:Events for Options Domestic &amp; Sexual Violence Services for Northwest Kansas
REFRESH-INTERVAL;VALUE=DURATION:PT1H
X-Robots-Tag:noindex
X-PUBLISHED-TTL:PT1H
BEGIN:VTIMEZONE
TZID:America/Chicago
BEGIN:DAYLIGHT
TZOFFSETFROM:-0600
TZOFFSETTO:-0500
TZNAME:CDT
DTSTART:20240310T080000
END:DAYLIGHT
BEGIN:STANDARD
TZOFFSETFROM:-0500
TZOFFSETTO:-0600
TZNAME:CST
DTSTART:20241103T070000
END:STANDARD
BEGIN:DAYLIGHT
TZOFFSETFROM:-0600
TZOFFSETTO:-0500
TZNAME:CDT
DTSTART:20250309T080000
END:DAYLIGHT
BEGIN:STANDARD
TZOFFSETFROM:-0500
TZOFFSETTO:-0600
TZNAME:CST
DTSTART:20251102T070000
END:STANDARD
BEGIN:DAYLIGHT
TZOFFSETFROM:-0600
TZOFFSETTO:-0500
TZNAME:CDT
DTSTART:20260308T080000
END:DAYLIGHT
BEGIN:STANDARD
TZOFFSETFROM:-0500
TZOFFSETTO:-0600
TZNAME:CST
DTSTART:20261101T070000
END:STANDARD
END:VTIMEZONE
BEGIN:VEVENT
DTSTART;TZID=America/Chicago:20251216T173000
DTEND;TZID=America/Chicago:20251216T190000
DTSTAMP:20260423T021403
CREATED:20251125T152631Z
LAST-MODIFIED:20251125T152631Z
UID:3747-1765906200-1765911600@help4abuse.org
SUMMARY:Colby Support Group – Adult Domestic Violence
DESCRIPTION:Join our domestic violence support group\, a safe and compassionate space for survivors to connect\, share\, and uplift each other. Tuesdays at 5:30pm at our Colby Office\, 1480 W 4th St. (Zoom is available). For more details\, call our office at 785-625-4202.
URL:https://help4abuse.org/event/colby-support-group-adult-domestic-violence-59/
LOCATION:Options Colby Office\, 1480 W 4th St\, Colby\, KS\, 67701\, United States
END:VEVENT
BEGIN:VEVENT
DTSTART;TZID=America/Chicago:20251212T183000
DTEND;TZID=America/Chicago:20251212T213000
DTSTAMP:20260423T021403
CREATED:20251125T154129Z
LAST-MODIFIED:20251125T154129Z
UID:3766-1765564200-1765575000@help4abuse.org
SUMMARY:Bingo Night
DESCRIPTION:Join us for a fun evening of community bingo at The Heritage Eatery & Bingo! Enjoy great food\, good company\, and a lively game night. All while supporting Options and the survivors we serve. Everyone is welcome!
URL:https://help4abuse.org/event/bingo-night-2/
LOCATION:The Heritage Eatery & Bingo\, 2450 E 8th St\, Hays\, KS\, 67601\, United States
END:VEVENT
BEGIN:VEVENT
DTSTART;TZID=America/Chicago:20251210T173000
DTEND;TZID=America/Chicago:20251210T190000
DTSTAMP:20260423T021403
CREATED:20251125T152837Z
LAST-MODIFIED:20251125T152837Z
UID:3751-1765387800-1765393200@help4abuse.org
SUMMARY:Hays Support Group – Adult Domestic Violence
DESCRIPTION:Join our domestic violence support group\, a safe and compassionate space for survivors to connect\, share\, and uplift each other. Wednesdays at 5:30pm at our Hays Office\, 2716 Plaza Ave. (Zoom is available). Childcare can be provided upon request. For more details\, call our office at 785-625-4202.
URL:https://help4abuse.org/event/hays-support-group-adult-domestic-violence-61/
LOCATION:Options Hays Office\, 2716 Plaza Ave\, Hays\, KS\, 67601\, United States
END:VEVENT
BEGIN:VEVENT
DTSTART;TZID=America/Chicago:20251209T173000
DTEND;TZID=America/Chicago:20251209T190000
DTSTAMP:20260423T021403
CREATED:20251125T152521Z
LAST-MODIFIED:20251125T152521Z
UID:3745-1765301400-1765306800@help4abuse.org
SUMMARY:Colby Support Group – Adult Domestic Violence
DESCRIPTION:Join our domestic violence support group\, a safe and compassionate space for survivors to connect\, share\, and uplift each other. Tuesdays at 5:30pm at our Colby Office\, 1480 W 4th St. (Zoom is available). For more details\, call our office at 785-625-4202.
URL:https://help4abuse.org/event/colby-support-group-adult-domestic-violence-58/
LOCATION:Options Colby Office\, 1480 W 4th St\, Colby\, KS\, 67701\, United States
END:VEVENT
BEGIN:VEVENT
DTSTART;TZID=America/Chicago:20251203T173000
DTEND;TZID=America/Chicago:20251203T190000
DTSTAMP:20260423T021403
CREATED:20251125T152432Z
LAST-MODIFIED:20251125T152432Z
UID:3743-1764783000-1764788400@help4abuse.org
SUMMARY:Hays Support Group – Adult Domestic Violence
DESCRIPTION:Join our domestic violence support group\, a safe and compassionate space for survivors to connect\, share\, and uplift each other. Wednesdays at 5:30pm at our Hays Office\, 2716 Plaza Ave. (Zoom is available). Childcare can be provided upon request. For more details\, call our office at 785-625-4202.
URL:https://help4abuse.org/event/hays-support-group-adult-domestic-violence-60/
LOCATION:Options Hays Office\, 2716 Plaza Ave\, Hays\, KS\, 67601\, United States
END:VEVENT
BEGIN:VEVENT
DTSTART;TZID=America/Chicago:20251202T173000
DTEND;TZID=America/Chicago:20251202T190000
DTSTAMP:20260423T021403
CREATED:20251125T152330Z
LAST-MODIFIED:20251125T152330Z
UID:3741-1764696600-1764702000@help4abuse.org
SUMMARY:Colby Support Group – Adult Domestic Violence
DESCRIPTION:Join our domestic violence support group\, a safe and compassionate space for survivors to connect\, share\, and uplift each other. Tuesdays at 5:30pm at our Colby Office\, 1480 W 4th St. (Zoom is available). For more details\, call our office at 785-625-4202.
URL:https://help4abuse.org/event/colby-support-group-adult-domestic-violence-57/
LOCATION:Options Colby Office\, 1480 W 4th St\, Colby\, KS\, 67701\, United States
END:VEVENT
BEGIN:VEVENT
DTSTART;TZID=America/Chicago:20251128T183000
DTEND;TZID=America/Chicago:20251128T213000
DTSTAMP:20260423T021403
CREATED:20251125T154002Z
LAST-MODIFIED:20251125T154002Z
UID:3763-1764354600-1764365400@help4abuse.org
SUMMARY:Bingo Night
DESCRIPTION:Join us for a fun evening of community bingo at The Heritage Eatery & Bingo! Enjoy great snacks\, good company\, and a lively game night. All while supporting Options and the survivors we serve. Everyone is welcome!
URL:https://help4abuse.org/event/bingo-night/
LOCATION:The Heritage Eatery & Bingo\, 2450 E 8th St\, Hays\, KS\, 67601\, United States
END:VEVENT
BEGIN:VEVENT
DTSTART;VALUE=DATE:20251128
DTEND;VALUE=DATE:20251129
DTSTAMP:20260423T021403
CREATED:20251030T181413Z
LAST-MODIFIED:20251030T181413Z
UID:3687-1764288000-1764374399@help4abuse.org
SUMMARY:Office Closure — Thanksgiving Holiday
DESCRIPTION:Both our Colby and Hays offices are closed for the holiday on Thursday\, November 26\, and Friday\, November 27. Even when our offices are closed\, Options advocates are always available to support you. If you need help\, call our 24/7 helpline at 800-794-4624 or text HELP to 847411.
URL:https://help4abuse.org/event/office-closure-thanksgiving-holiday-2/
END:VEVENT
BEGIN:VEVENT
DTSTART;VALUE=DATE:20251127
DTEND;VALUE=DATE:20251128
DTSTAMP:20260423T021403
CREATED:20251030T181208Z
LAST-MODIFIED:20251030T181242Z
UID:3685-1764201600-1764287999@help4abuse.org
SUMMARY:Office Closure — Thanksgiving Holiday
DESCRIPTION:Both our Colby and Hays offices are closed for the holiday on Thursday\, November 26th\, and Friday\, November 27th. Even when our offices are closed\, Options advocates are always available to support you. If you need help\, call our 24/7 helpline at 800-794-4624 or text HELP to 847411.
URL:https://help4abuse.org/event/office-closure-thanksgiving-holiday/
END:VEVENT
BEGIN:VEVENT
DTSTART;TZID=America/Chicago:20251126T173000
DTEND;TZID=America/Chicago:20251126T190000
DTSTAMP:20260423T021403
CREATED:20251030T180743Z
LAST-MODIFIED:20251030T180743Z
UID:3683-1764178200-1764183600@help4abuse.org
SUMMARY:Hays Support Group – Adult Domestic Violence
DESCRIPTION:Join our domestic violence support group\, a safe and compassionate space for survivors to connect\, share\, and uplift each other. Wednesdays at 5:30pm at our Hays Office\, 2716 Plaza Ave. (Zoom is available). Childcare can be provided upon request. For more details\, call our office at 785-625-4202.
URL:https://help4abuse.org/event/hays-support-group-adult-domestic-violence-59/
LOCATION:Options Hays Office\, 2716 Plaza Ave\, Hays\, KS\, 67601\, United States
END:VEVENT
BEGIN:VEVENT
DTSTART;TZID=America/Chicago:20251125T173000
DTEND;TZID=America/Chicago:20251125T190000
DTSTAMP:20260423T021403
CREATED:20251030T180646Z
LAST-MODIFIED:20251030T180646Z
UID:3681-1764091800-1764097200@help4abuse.org
SUMMARY:Colby Support Group – Adult Domestic Violence
DESCRIPTION:Join our domestic violence support group\, a safe and compassionate space for survivors to connect\, share\, and uplift each other. Tuesdays at 5:30pm at our Colby Office\, 1480 W 4th St. (Zoom is available). For more details\, call our office at 785-625-4202.
URL:https://help4abuse.org/event/colby-support-group-adult-domestic-violence-56/
LOCATION:Options Colby Office\, 1480 W 4th St\, Colby\, KS\, 67701\, United States
END:VEVENT
BEGIN:VEVENT
DTSTART;TZID=America/Chicago:20251119T173000
DTEND;TZID=America/Chicago:20251119T190000
DTSTAMP:20260423T021403
CREATED:20251030T180447Z
LAST-MODIFIED:20251030T180447Z
UID:3679-1763573400-1763578800@help4abuse.org
SUMMARY:Hays Support Group – Adult Domestic Violence
DESCRIPTION:Join our domestic violence support group\, a safe and compassionate space for survivors to connect\, share\, and uplift each other. Wednesdays at 5:30pm at our Hays Office\, 2716 Plaza Ave. (Zoom is available). Childcare can be provided upon request. For more details\, call our office at 785-625-4202.
URL:https://help4abuse.org/event/hays-support-group-adult-domestic-violence-58/
LOCATION:Options Hays Office\, 2716 Plaza Ave\, Hays\, KS\, 67601\, United States
END:VEVENT
BEGIN:VEVENT
DTSTART;TZID=America/Chicago:20251118T173000
DTEND;TZID=America/Chicago:20251118T190000
DTSTAMP:20260423T021403
CREATED:20251030T180338Z
LAST-MODIFIED:20251030T180338Z
UID:3677-1763487000-1763492400@help4abuse.org
SUMMARY:Colby Support Group – Adult Domestic Violence
DESCRIPTION:Join our domestic violence support group\, a safe and compassionate space for survivors to connect\, share\, and uplift each other. Tuesdays at 5:30pm at our Colby Office\, 1480 W 4th St. (Zoom is available). For more details\, call our office at 785-625-4202.
URL:https://help4abuse.org/event/colby-support-group-adult-domestic-violence-55/
LOCATION:Options Colby Office\, 1480 W 4th St\, Colby\, KS\, 67701\, United States
END:VEVENT
BEGIN:VEVENT
DTSTART;TZID=America/Chicago:20251112T173000
DTEND;TZID=America/Chicago:20251112T190000
DTSTAMP:20260423T021403
CREATED:20251030T180242Z
LAST-MODIFIED:20251030T180242Z
UID:3675-1762968600-1762974000@help4abuse.org
SUMMARY:Hays Support Group – Adult Domestic Violence
DESCRIPTION:Join our domestic violence support group\, a safe and compassionate space for survivors to connect\, share\, and uplift each other. Wednesdays at 5:30pm at our Hays Office\, 2716 Plaza Ave. (Zoom is available). Childcare can be provided upon request. For more details\, call our office at 785-625-4202.
URL:https://help4abuse.org/event/hays-support-group-adult-domestic-violence-57/
LOCATION:Options Hays Office\, 2716 Plaza Ave\, Hays\, KS\, 67601\, United States
END:VEVENT
BEGIN:VEVENT
DTSTART;TZID=America/Chicago:20251111T173000
DTEND;TZID=America/Chicago:20251111T190000
DTSTAMP:20260423T021403
CREATED:20251030T180155Z
LAST-MODIFIED:20251030T180155Z
UID:3673-1762882200-1762887600@help4abuse.org
SUMMARY:Colby Support Group – Adult Domestic Violence
DESCRIPTION:Join our domestic violence support group\, a safe and compassionate space for survivors to connect\, share\, and uplift each other. Tuesdays at 5:30pm at our Colby Office\, 1480 W 4th St. (Zoom is available). For more details\, call our office at 785-625-4202.
URL:https://help4abuse.org/event/colby-support-group-adult-domestic-violence-54/
LOCATION:Options Colby Office\, 1480 W 4th St\, Colby\, KS\, 67701\, United States
END:VEVENT
BEGIN:VEVENT
DTSTART;TZID=America/Chicago:20251105T173000
DTEND;TZID=America/Chicago:20251105T190000
DTSTAMP:20260423T021403
CREATED:20251030T180020Z
LAST-MODIFIED:20251030T180020Z
UID:3671-1762363800-1762369200@help4abuse.org
SUMMARY:Hays Support Group – Adult Domestic Violence
DESCRIPTION:Join our domestic violence support group\, a safe and compassionate space for survivors to connect\, share\, and uplift each other. Wednesdays at 5:30pm at our Hays Office\, 2716 Plaza Ave. (Zoom is available). Childcare can be provided upon request. For more details\, call our office at 785-625-4202.
URL:https://help4abuse.org/event/hays-support-group-adult-domestic-violence-56/
LOCATION:Options Hays Office\, 2716 Plaza Ave\, Hays\, KS\, 67601\, United States
END:VEVENT
BEGIN:VEVENT
DTSTART;TZID=America/Chicago:20251104T173000
DTEND;TZID=America/Chicago:20251104T190000
DTSTAMP:20260423T021403
CREATED:20251030T175610Z
LAST-MODIFIED:20251030T175610Z
UID:3669-1762277400-1762282800@help4abuse.org
SUMMARY:Colby Support Group – Adult Domestic Violence
DESCRIPTION:Join our domestic violence support group\, a safe and compassionate space for survivors to connect\, share\, and uplift each other. Tuesdays at 5:30pm at our Colby Office\, 1480 W 4th St. (Zoom is available). For more details\, call our office at 785-625-4202
URL:https://help4abuse.org/event/colby-support-group-adult-domestic-violence-53/
LOCATION:Options Colby Office\, 1480 W 4th St\, Colby\, KS\, 67701\, United States
END:VEVENT
BEGIN:VEVENT
DTSTART;TZID=America/Chicago:20251029T173000
DTEND;TZID=America/Chicago:20251029T190000
DTSTAMP:20260423T021403
CREATED:20250919T184956Z
LAST-MODIFIED:20250919T184956Z
UID:3600-1761759000-1761764400@help4abuse.org
SUMMARY:Hays Support Group - Adult Domestic Violence
DESCRIPTION:Join our domestic violence support group\, a safe and compassionate space for survivors to connect\, share\, and uplift each other. Wednesdays at 5:30 at our Hays Office\, 2716 Plaza Ave. (Zoom is available). Childcare is provided! For more details\, call our office at 785-625-4202
URL:https://help4abuse.org/event/hays-support-group-adult-domestic-violence-55/
LOCATION:Options Hays Office\, 2716 Plaza Ave\, Hays\, KS\, 67601\, United States
END:VEVENT
BEGIN:VEVENT
DTSTART;TZID=America/Chicago:20251028T173000
DTEND;TZID=America/Chicago:20251028T190000
DTSTAMP:20260423T021403
CREATED:20250919T184811Z
LAST-MODIFIED:20250919T184811Z
UID:3596-1761672600-1761678000@help4abuse.org
SUMMARY:Colby Support Group - Adult Domestic Violence
DESCRIPTION:Join our domestic violence support group\, a safe and compassionate space for survivors to connect\, share\, and uplift each other. Tuesdays at 5:30pm at our Colby Office\, 1480 W 4th St. (Zoom is available). For more details\, call our office at 785-625-4202
URL:https://help4abuse.org/event/colby-support-group-adult-domestic-violence-52/
LOCATION:Options Colby Office\, 1480 W 4th St\, Colby\, KS\, 67701\, United States
END:VEVENT
BEGIN:VEVENT
DTSTART;VALUE=DATE:20251026
DTEND;VALUE=DATE:20251027
DTSTAMP:20260423T021403
CREATED:20250919T185915Z
LAST-MODIFIED:20250919T185915Z
UID:3607-1761436800-1761523199@help4abuse.org
SUMMARY:Purple Sunday
DESCRIPTION:Faith communities play an important role in supporting survivors and spreading awareness. \nOn Purple Sunday\, we are inviting churches across our service area to join us in recognizing Domestic Violence Awareness Month. Congregations are encouraged to wear purple\, lift survivors up in prayer\, and share resources that can connect individuals and families with help and hope. \nBy uniting in faith and compassion\, churches can shine a light on the realities of domestic violence\, break the silence\, and remind survivors that they are never alone.
URL:https://help4abuse.org/event/purple-sunday/
END:VEVENT
BEGIN:VEVENT
DTSTART;TZID=America/Chicago:20251024T183000
DTEND;TZID=America/Chicago:20251024T203000
DTSTAMP:20260423T021403
CREATED:20250919T185319Z
LAST-MODIFIED:20250919T185319Z
UID:3602-1761330600-1761337800@help4abuse.org
SUMMARY:Safe At Last
DESCRIPTION:Every survivor’s story matters. Safe at Last is a powerful event that centers the voices of those who have experienced domestic violence. Survivors will share their journeys – what they went through\, the challenges they faced\, the moments of support that made a difference\, and the barriers that still remain. \nThis evening is about listening\, learning\, and honoring the courage it takes to speak out. During Domestic Violence Awareness Month\, we invite our community to come together in solidarity with survivors\, to hear their truths\, and to recognize the importance of creating a safer\, more supportive world for all. \nJoin us at the Hays Public Library in the Schmidt Gallery from 6:30 PM to 8:30 PM!
URL:https://help4abuse.org/event/safe-at-last/
LOCATION:Hays Public Library – Schmidt Gallery\, 1205 Main St\, Hays\, Kansas\, 67601
END:VEVENT
BEGIN:VEVENT
DTSTART;TZID=America/Chicago:20251022T080000
DTEND;TZID=America/Chicago:20251022T170000
DTSTAMP:20260423T021403
CREATED:20250919T184914Z
LAST-MODIFIED:20250919T184914Z
UID:3598-1761120000-1761152400@help4abuse.org
SUMMARY:Hays Support Group - Adult Domestic Violence
DESCRIPTION:Join our domestic violence support group\, a safe and compassionate space for survivors to connect\, share\, and uplift each other. Wednesdays at 5:30 at our Hays Office\, 2716 Plaza Ave. (Zoom is available). Childcare is provided! For more details\, call our office at 785-625-4202
URL:https://help4abuse.org/event/hays-support-group-adult-domestic-violence-54/
LOCATION:Options Hays Office\, 2716 Plaza Ave\, Hays\, KS\, 67601\, United States
END:VEVENT
BEGIN:VEVENT
DTSTART;TZID=America/Chicago:20251021T181500
DTEND;TZID=America/Chicago:20251021T184500
DTSTAMP:20260423T021403
CREATED:20250923T174434Z
LAST-MODIFIED:20250923T174434Z
UID:3613-1761070500-1761072300@help4abuse.org
SUMMARY:WaKeeney Domestic Violence Awarenss Month Proclamation
DESCRIPTION:We are grateful to WaKeeney for recognizing October as Domestic Violence Awareness Month. This proclamation reinforces the message that domestic violence impacts everyone\, and awareness is key to building a safer community.
URL:https://help4abuse.org/event/wakeeney-domestic-violence-awarenss-month-proclamation/
END:VEVENT
BEGIN:VEVENT
DTSTART;TZID=America/Chicago:20251021T173000
DTEND;TZID=America/Chicago:20251021T190000
DTSTAMP:20260423T021403
CREATED:20250919T184731Z
LAST-MODIFIED:20250919T184731Z
UID:3594-1761067800-1761073200@help4abuse.org
SUMMARY:Colby Support Group - Adult Domestic Violence
DESCRIPTION:Join our domestic violence support group\, a safe and compassionate space for survivors to connect\, share\, and uplift each other. Tuesdays at 5:30pm at our Colby Office\, 1480 W 4th St. (Zoom is available). For more details\, call our office at 785-625-4202
URL:https://help4abuse.org/event/colby-support-group-adult-domestic-violence-51/
LOCATION:Options Colby Office\, 1480 W 4th St\, Colby\, KS\, 67701\, United States
END:VEVENT
BEGIN:VEVENT
DTSTART;TZID=America/Chicago:20251018T140000
DTEND;TZID=America/Chicago:20251018T160000
DTSTAMP:20260423T021403
CREATED:20250919T183926Z
LAST-MODIFIED:20250919T183926Z
UID:3585-1760796000-1760803200@help4abuse.org
SUMMARY:Paint the Town Purple
DESCRIPTION:Art has the power to heal\, connect\, and inspire. During Domestic Violence Awareness Month\, survivors\, allies\, and the community as a whole are invited to join us in creating a large community art piece filled with messages of support\, peace\, healing\, and hope. Together\, we will use art to raise awareness\, honor survivors\, and spread the message that a safe\, supportive community is possible. Art supplies provided!
URL:https://help4abuse.org/event/paint-the-town-purple/
LOCATION:Downtown Hays Pavilion\, 117 E 10th St\, Hays\, Kansas\, 67601
END:VEVENT
BEGIN:VEVENT
DTSTART;TZID=America/Chicago:20251016T190000
DTEND;TZID=America/Chicago:20251016T193000
DTSTAMP:20260423T021403
CREATED:20250919T183636Z
LAST-MODIFIED:20250919T183636Z
UID:3583-1760641200-1760643000@help4abuse.org
SUMMARY:Atwood Domestic Violence Awareness Month Proclamation
DESCRIPTION:We thank the City of Atwood for standing with survivors by declaring October as Domestic Violence Awareness Month. This proclamation is a powerful reminder of the importance of community awareness\, education\, and prevention efforts.
URL:https://help4abuse.org/event/atwood-domestic-violence-awareness-month-proclamation/
END:VEVENT
BEGIN:VEVENT
DTSTART;TZID=America/Chicago:20251016T180000
DTEND;TZID=America/Chicago:20251016T183000
DTSTAMP:20260423T021403
CREATED:20250919T171757Z
LAST-MODIFIED:20251006T141821Z
UID:3550-1760637600-1760639400@help4abuse.org
SUMMARY:Osborne Domestic Violence Awareness Month Proclamation
DESCRIPTION:We are grateful to Osborne for recognizing October as Domestic Violence Awareness Month. This proclamation reinforces the message that domestic violence impacts everyone\, and awareness is key to building a safer community.
URL:https://help4abuse.org/event/osborne-domestic-violence-awareness-month-proclamation/
END:VEVENT
BEGIN:VEVENT
DTSTART;VALUE=DATE:20251016
DTEND;VALUE=DATE:20251017
DTSTAMP:20260423T021403
CREATED:20250919T185617Z
LAST-MODIFIED:20250919T185617Z
UID:3605-1760572800-1760659199@help4abuse.org
SUMMARY:Purple Thursday - WEAR PURPLE!
DESCRIPTION:Purple Thursday in 2025 will be on Thursday\, Oct 16.  \nThis is a national day to show solidarity with survivors of domestic violence by wearing purple\, symbolizing courage\, survival\, and honor. It’s held annually as part of Domestic Violence Awareness Month (DVAM) in October to raise awareness and break the silence surrounding domestic violence. 
URL:https://help4abuse.org/event/purple-thursday-wear-purple/
END:VEVENT
BEGIN:VEVENT
DTSTART;TZID=America/Chicago:20251015T173000
DTEND;TZID=America/Chicago:20251015T190000
DTSTAMP:20260423T021403
CREATED:20250919T183529Z
LAST-MODIFIED:20250919T183529Z
UID:3581-1760549400-1760554800@help4abuse.org
SUMMARY:Hays Support Group - Adult Domestic Violence
DESCRIPTION:Join our domestic violence support group\, a safe and compassionate space for survivors to connect\, share\, and uplift each other. Wednesdays at 5:30 at our Hays Office\, 2716 Plaza Ave. (Zoom is available). Childcare is provided! For more details\, call our office at 785-625-4202
URL:https://help4abuse.org/event/hays-support-group-adult-domestic-violence-53/
LOCATION:Options Hays Office\, 2716 Plaza Ave\, Hays\, KS\, 67601\, United States
END:VEVENT
BEGIN:VEVENT
DTSTART;TZID=America/Chicago:20251014T173000
DTEND;TZID=America/Chicago:20251014T190000
DTSTAMP:20260423T021403
CREATED:20250919T184654Z
LAST-MODIFIED:20250919T184654Z
UID:3592-1760463000-1760468400@help4abuse.org
SUMMARY:Colby Support Group - Adult Domestic Violence
DESCRIPTION:Join our domestic violence support group\, a safe and compassionate space for survivors to connect\, share\, and uplift each other. Tuesdays at 5:30pm at our Colby Office\, 1480 W 4th St. (Zoom is available). For more details\, call our office at 785-625-4202
URL:https://help4abuse.org/event/colby-support-group-adult-domestic-violence-50/
LOCATION:Options Colby Office\, 1480 W 4th St\, Colby\, KS\, 67701\, United States
END:VEVENT
END:VCALENDAR