BEGIN:VCALENDAR
VERSION:2.0
PRODID:-//Options Domestic &amp; Sexual Violence Services for Northwest Kansas - ECPv6.15.20//NONSGML v1.0//EN
CALSCALE:GREGORIAN
METHOD:PUBLISH
X-WR-CALNAME:Options Domestic &amp; Sexual Violence Services for Northwest Kansas
X-ORIGINAL-URL:https://help4abuse.org
X-WR-CALDESC:Events for Options Domestic &amp; Sexual Violence Services for Northwest Kansas
REFRESH-INTERVAL;VALUE=DURATION:PT1H
X-Robots-Tag:noindex
X-PUBLISHED-TTL:PT1H
BEGIN:VTIMEZONE
TZID:America/Chicago
BEGIN:DAYLIGHT
TZOFFSETFROM:-0600
TZOFFSETTO:-0500
TZNAME:CDT
DTSTART:20240310T080000
END:DAYLIGHT
BEGIN:STANDARD
TZOFFSETFROM:-0500
TZOFFSETTO:-0600
TZNAME:CST
DTSTART:20241103T070000
END:STANDARD
BEGIN:DAYLIGHT
TZOFFSETFROM:-0600
TZOFFSETTO:-0500
TZNAME:CDT
DTSTART:20250309T080000
END:DAYLIGHT
BEGIN:STANDARD
TZOFFSETFROM:-0500
TZOFFSETTO:-0600
TZNAME:CST
DTSTART:20251102T070000
END:STANDARD
BEGIN:DAYLIGHT
TZOFFSETFROM:-0600
TZOFFSETTO:-0500
TZNAME:CDT
DTSTART:20260308T080000
END:DAYLIGHT
BEGIN:STANDARD
TZOFFSETFROM:-0500
TZOFFSETTO:-0600
TZNAME:CST
DTSTART:20261101T070000
END:STANDARD
BEGIN:DAYLIGHT
TZOFFSETFROM:-0600
TZOFFSETTO:-0500
TZNAME:CDT
DTSTART:20270314T080000
END:DAYLIGHT
BEGIN:STANDARD
TZOFFSETFROM:-0500
TZOFFSETTO:-0600
TZNAME:CST
DTSTART:20271107T070000
END:STANDARD
END:VTIMEZONE
BEGIN:VEVENT
DTSTART;TZID=America/Chicago:20260211T173000
DTEND;TZID=America/Chicago:20260211T190000
DTSTAMP:20260422T173430
CREATED:20260126T191737Z
LAST-MODIFIED:20260126T191737Z
UID:3844-1770831000-1770836400@help4abuse.org
SUMMARY:Hays Support Group – Adult Domestic Violence
DESCRIPTION:Join our domestic violence support group\, a safe and compassionate space for survivors to connect\, share\, and uplift each other. Wednesdays at 5:30pm at our Hays Office\, 2716 Plaza Ave. (Zoom is available). Childcare can be provided upon request. For more details\, call our office at 785-625-4202.
URL:https://help4abuse.org/event/hays-support-group-adult-domestic-violence-69/
LOCATION:Options Hays Office\, 2716 Plaza Ave\, Hays\, KS\, 67601\, United States
END:VEVENT
BEGIN:VEVENT
DTSTART;TZID=America/Chicago:20260210T173000
DTEND;TZID=America/Chicago:20260210T190000
DTSTAMP:20260422T173430
CREATED:20260126T190630Z
LAST-MODIFIED:20260126T190630Z
UID:3836-1770744600-1770750000@help4abuse.org
SUMMARY:Colby Support Group – Adult Domestic Violence
DESCRIPTION:Join our domestic violence support group\, a safe and compassionate space for survivors to connect\, share\, and uplift each other. Tuesdays at 5:30pm at our Colby Office\, 1480 W 4th St. (Zoom is available). For more details\, call our office at 785-625-4202.
URL:https://help4abuse.org/event/colby-support-group-adult-domestic-violence-67/
LOCATION:Options Colby Office\, 1480 W 4th St\, Colby\, KS\, 67701\, United States
END:VEVENT
BEGIN:VEVENT
DTSTART;TZID=America/Chicago:20260210T093000
DTEND;TZID=America/Chicago:20260210T103000
DTSTAMP:20260422T173430
CREATED:20260126T195029Z
LAST-MODIFIED:20260126T195029Z
UID:3855-1770715800-1770719400@help4abuse.org
SUMMARY:Coffee & Conversation – Hays
DESCRIPTION:Join us for a welcoming morning of coffee and conversation with Options leadership. Learn how we support safety in your community and help people through challenging times.
URL:https://help4abuse.org/event/coffee-conversation-hays/
LOCATION:Breathe Coffee House\, 703 B Main St\, Hays\, KS\, 67601\, United States
END:VEVENT
BEGIN:VEVENT
DTSTART;TZID=America/Chicago:20260204T173000
DTEND;TZID=America/Chicago:20260204T190000
DTSTAMP:20260422T173430
CREATED:20260126T191625Z
LAST-MODIFIED:20260126T191625Z
UID:3842-1770226200-1770231600@help4abuse.org
SUMMARY:Hays Support Group – Adult Domestic Violence
DESCRIPTION:Join our domestic violence support group\, a safe and compassionate space for survivors to connect\, share\, and uplift each other. Wednesdays at 5:30pm at our Hays Office\, 2716 Plaza Ave. (Zoom is available). Childcare can be provided upon request. For more details\, call our office at 785-625-4202.
URL:https://help4abuse.org/event/hays-support-group-adult-domestic-violence-68/
LOCATION:Options Hays Office\, 2716 Plaza Ave\, Hays\, KS\, 67601\, United States
END:VEVENT
BEGIN:VEVENT
DTSTART;TZID=America/Chicago:20260203T173000
DTEND;TZID=America/Chicago:20260203T190000
DTSTAMP:20260422T173430
CREATED:20260126T190534Z
LAST-MODIFIED:20260126T190534Z
UID:3834-1770139800-1770145200@help4abuse.org
SUMMARY:Colby Support Group – Adult Domestic Violence
DESCRIPTION:Join our domestic violence support group\, a safe and compassionate space for survivors to connect\, share\, and uplift each other. Tuesdays at 5:30pm at our Colby Office\, 1480 W 4th St. (Zoom is available). For more details\, call our office at 785-625-4202.
URL:https://help4abuse.org/event/colby-support-group-adult-domestic-violence-66/
LOCATION:Options Colby Office\, 1480 W 4th St\, Colby\, KS\, 67701\, United States
END:VEVENT
BEGIN:VEVENT
DTSTART;TZID=America/Chicago:20260203T163000
DTEND;TZID=America/Chicago:20260203T210000
DTSTAMP:20260422T173430
CREATED:20260129T172051Z
LAST-MODIFIED:20260129T172157Z
UID:3867-1770136200-1770152400@help4abuse.org
SUMMARY:Purple Out for Teen Dating Violence
DESCRIPTION:Join the Hays High School Student Advisory Board at the HHS V/JV/C Basketball game vs. Sunrise Christian! We’re asking students and attendees of the game to wear purple and visit our information table located just outside the gym.
URL:https://help4abuse.org/event/purple-out-for-teen-dating-violence/
LOCATION:Hays High School\, 2300 E 13th St\, Hays\, KS\, 67601\, United States
END:VEVENT
BEGIN:VEVENT
DTSTART;TZID=America/Chicago:20260203T093000
DTEND;TZID=America/Chicago:20260203T103000
DTSTAMP:20260422T173430
CREATED:20260126T194300Z
LAST-MODIFIED:20260126T194300Z
UID:3852-1770111000-1770114600@help4abuse.org
SUMMARY:Coffee & Conversation – Colby
DESCRIPTION:Join us for a welcoming morning of coffee and conversation with Options leadership. Learn how we support safety in your community and help people through challenging times.
URL:https://help4abuse.org/event/coffee-conversation-colby/
LOCATION:Mokas Cafe & Eatery\, 1992 S Range Ave\, Colby\, 67701\, United States
END:VEVENT
BEGIN:VEVENT
DTSTART;TZID=America/Chicago:20260129T180000
DTEND;TZID=America/Chicago:20260129T190000
DTSTAMP:20260422T173430
CREATED:20260109T162722Z
LAST-MODIFIED:20260109T162722Z
UID:3803-1769709600-1769713200@help4abuse.org
SUMMARY:How-to: Foster Healthy Relationships
DESCRIPTION:Come learn skills to help build healthy relationships with friends\, roommates\, significant others\, and professionally at jobs or in the classroom. We’re excited to partner with the Tebo Library at FHSU!
URL:https://help4abuse.org/event/how-to-foster-healthy-relationships/
LOCATION:Fort Hays State University\, 600 Park St\, Hays\, KS\, 67601\, United States
END:VEVENT
BEGIN:VEVENT
DTSTART;TZID=America/Chicago:20260128T173000
DTEND;TZID=America/Chicago:20260128T190000
DTSTAMP:20260422T173430
CREATED:20251229T175301Z
LAST-MODIFIED:20251229T175301Z
UID:3788-1769621400-1769626800@help4abuse.org
SUMMARY:Hays Support Group – Adult Domestic Violence
DESCRIPTION:Join our domestic violence support group\, a safe and compassionate space for survivors to connect\, share\, and uplift each other. Wednesdays at 5:30pm at our Hays Office\, 2716 Plaza Ave. (Zoom is available). Childcare can be provided upon request. For more details\, call our office at 785-625-4202.
URL:https://help4abuse.org/event/hays-support-group-adult-domestic-violence-67/
LOCATION:Options Hays Office\, 2716 Plaza Ave\, Hays\, KS\, 67601\, United States
END:VEVENT
BEGIN:VEVENT
DTSTART;TZID=America/Chicago:20260127T173000
DTEND;TZID=America/Chicago:20260127T190000
DTSTAMP:20260422T173430
CREATED:20251229T175629Z
LAST-MODIFIED:20251229T175629Z
UID:3796-1769535000-1769540400@help4abuse.org
SUMMARY:Colby Support Group – Adult Domestic Violence
DESCRIPTION:Join our domestic violence support group\, a safe and compassionate space for survivors to connect\, share\, and uplift each other. Tuesdays at 5:30pm at our Colby Office\, 1480 W 4th St. (Zoom is available). For more details\, call our office at 785-625-4202
URL:https://help4abuse.org/event/colby-support-group-adult-domestic-violence-65/
LOCATION:Options Colby Office\, 1480 W 4th St\, Colby\, KS\, 67701\, United States
END:VEVENT
BEGIN:VEVENT
DTSTART;TZID=America/Chicago:20260127T093000
DTEND;TZID=America/Chicago:20260127T103000
DTSTAMP:20260422T173430
CREATED:20260120T180136Z
LAST-MODIFIED:20260120T180356Z
UID:3831-1769506200-1769509800@help4abuse.org
SUMMARY:Coffee & Conversation - Goodland
DESCRIPTION:Join us for a welcoming morning of coffee and conversation with Options leadership. Learn how we support safety in your community and help people through challenging times.
URL:https://help4abuse.org/event/coffee-conversation-goodland/
LOCATION:The Bricks By Maria\, 1530 Main St\, Goodland\, KS\, 67735\, United States
END:VEVENT
BEGIN:VEVENT
DTSTART;TZID=America/Chicago:20260121T173000
DTEND;TZID=America/Chicago:20260121T190000
DTSTAMP:20260422T173430
CREATED:20251229T175212Z
LAST-MODIFIED:20251229T175212Z
UID:3786-1769016600-1769022000@help4abuse.org
SUMMARY:Hays Support Group – Adult Domestic Violence
DESCRIPTION:Join our domestic violence support group\, a safe and compassionate space for survivors to connect\, share\, and uplift each other. Wednesdays at 5:30pm at our Hays Office\, 2716 Plaza Ave. (Zoom is available). Childcare can be provided upon request. For more details\, call our office at 785-625-4202.
URL:https://help4abuse.org/event/hays-support-group-adult-domestic-violence-66/
LOCATION:Options Hays Office\, 2716 Plaza Ave\, Hays\, KS\, 67601\, United States
END:VEVENT
BEGIN:VEVENT
DTSTART;TZID=America/Chicago:20260120T173000
DTEND;TZID=America/Chicago:20260120T190000
DTSTAMP:20260422T173430
CREATED:20251229T175548Z
LAST-MODIFIED:20251229T175548Z
UID:3794-1768930200-1768935600@help4abuse.org
SUMMARY:Colby Support Group – Adult Domestic Violence
DESCRIPTION:Join our domestic violence support group\, a safe and compassionate space for survivors to connect\, share\, and uplift each other. Tuesdays at 5:30pm at our Colby Office\, 1480 W 4th St. (Zoom is available). For more details\, call our office at 785-625-4202
URL:https://help4abuse.org/event/colby-support-group-adult-domestic-violence-64/
LOCATION:Options Colby Office\, 1480 W 4th St\, Colby\, KS\, 67701\, United States
END:VEVENT
BEGIN:VEVENT
DTSTART;TZID=America/Chicago:20260120T140000
DTEND;TZID=America/Chicago:20260120T170000
DTSTAMP:20260422T173430
CREATED:20260109T162451Z
LAST-MODIFIED:20260109T162451Z
UID:3801-1768917600-1768928400@help4abuse.org
SUMMARY:FHSU Back 2 School pt. 2
DESCRIPTION:Join us at Fort Hays State University to welcome students back to campus! We’ll be giving away stickers\, socks\, and plenty of information.
URL:https://help4abuse.org/event/fhsu-back-2-school-pt-2/
LOCATION:Fort Hays State University\, 600 Park St\, Hays\, KS\, 67601\, United States
END:VEVENT
BEGIN:VEVENT
DTSTART;VALUE=DATE:20260119
DTEND;VALUE=DATE:20260120
DTSTAMP:20260422T173430
CREATED:20260109T161624Z
LAST-MODIFIED:20260109T161624Z
UID:3799-1768780800-1768867199@help4abuse.org
SUMMARY:Office Closure - MLK Day Holiday
DESCRIPTION:Both our Colby and Hays offices are closed for the holiday on Monday\, January 19. Even when our offices are closed\, Options advocates are always available to support you. If you need help\, call our 24/7 helpline at 800-794-4624 or text HELP to 847411.
URL:https://help4abuse.org/event/office-closure-mlk-day-holiday/
LOCATION:KS
END:VEVENT
BEGIN:VEVENT
DTSTART;TZID=America/Chicago:20260114T173000
DTEND;TZID=America/Chicago:20260114T190000
DTSTAMP:20260422T173430
CREATED:20251229T175114Z
LAST-MODIFIED:20251229T175114Z
UID:3784-1768411800-1768417200@help4abuse.org
SUMMARY:Hays Support Group – Adult Domestic Violence
DESCRIPTION:Join our domestic violence support group\, a safe and compassionate space for survivors to connect\, share\, and uplift each other. Wednesdays at 5:30pm at our Hays Office\, 2716 Plaza Ave. (Zoom is available). Childcare can be provided upon request. For more details\, call our office at 785-625-4202.
URL:https://help4abuse.org/event/hays-support-group-adult-domestic-violence-65/
LOCATION:Options Hays Office\, 2716 Plaza Ave\, Hays\, KS\, 67601\, United States
END:VEVENT
BEGIN:VEVENT
DTSTART;TZID=America/Chicago:20260113T173000
DTEND;TZID=America/Chicago:20260113T190000
DTSTAMP:20260422T173430
CREATED:20251229T175448Z
LAST-MODIFIED:20251229T175448Z
UID:3792-1768325400-1768330800@help4abuse.org
SUMMARY:Colby Support Group – Adult Domestic Violence
DESCRIPTION:Join our domestic violence support group\, a safe and compassionate space for survivors to connect\, share\, and uplift each other. Tuesdays at 5:30pm at our Colby Office\, 1480 W 4th St. (Zoom is available). For more details\, call our office at 785-625-4202
URL:https://help4abuse.org/event/colby-support-group-adult-domestic-violence-63/
LOCATION:Options Colby Office\, 1480 W 4th St\, Colby\, KS\, 67701\, United States
END:VEVENT
BEGIN:VEVENT
DTSTART;TZID=America/Chicago:20260107T173000
DTEND;TZID=America/Chicago:20260107T190000
DTSTAMP:20260422T173430
CREATED:20251229T175025Z
LAST-MODIFIED:20251229T175025Z
UID:3782-1767807000-1767812400@help4abuse.org
SUMMARY:Hays Support Group – Adult Domestic Violence
DESCRIPTION:Join our domestic violence support group\, a safe and compassionate space for survivors to connect\, share\, and uplift each other. Wednesdays at 5:30pm at our Hays Office\, 2716 Plaza Ave. (Zoom is available). Childcare can be provided upon request. For more details\, call our office at 785-625-4202.
URL:https://help4abuse.org/event/hays-support-group-adult-domestic-violence-64/
LOCATION:Options Hays Office\, 2716 Plaza Ave\, Hays\, KS\, 67601\, United States
END:VEVENT
BEGIN:VEVENT
DTSTART;TZID=America/Chicago:20260106T173000
DTEND;TZID=America/Chicago:20260106T190000
DTSTAMP:20260422T173430
CREATED:20251229T175401Z
LAST-MODIFIED:20251229T175401Z
UID:3790-1767720600-1767726000@help4abuse.org
SUMMARY:Colby Support Group – Adult Domestic Violence
DESCRIPTION:Join our domestic violence support group\, a safe and compassionate space for survivors to connect\, share\, and uplift each other. Tuesdays at 5:30pm at our Colby Office\, 1480 W 4th St. (Zoom is available). For more details\, call our office at 785-625-4202
URL:https://help4abuse.org/event/colby-support-group-adult-domestic-violence-62/
LOCATION:Options Colby Office\, 1480 W 4th St\, Colby\, KS\, 67701\, United States
END:VEVENT
BEGIN:VEVENT
DTSTART;VALUE=DATE:20260101
DTEND;VALUE=DATE:20260102
DTSTAMP:20260422T173430
CREATED:20251125T154416Z
LAST-MODIFIED:20251125T154416Z
UID:3770-1767225600-1767311999@help4abuse.org
SUMMARY:Office Closure — New Year Holiday
DESCRIPTION:Both our Colby and Hays offices are closed for the holiday on Thursday\, January 1st. Even when our offices are closed\, Options advocates are always available to support you. If you need help\, call our 24/7 helpline at 800-794-4624 or text HELP to 847411.
URL:https://help4abuse.org/event/office-closure-new-year-holiday/
LOCATION:KS
END:VEVENT
BEGIN:VEVENT
DTSTART;TZID=America/Chicago:20251231T173000
DTEND;TZID=America/Chicago:20251231T190000
DTSTAMP:20260422T173430
CREATED:20251125T152951Z
LAST-MODIFIED:20251125T152951Z
UID:3755-1767202200-1767207600@help4abuse.org
SUMMARY:Hays Support Group – Adult Domestic Violence
DESCRIPTION:Join our domestic violence support group\, a safe and compassionate space for survivors to connect\, share\, and uplift each other. Wednesdays at 5:30pm at our Hays Office\, 2716 Plaza Ave. (Zoom is available). Childcare can be provided upon request. For more details\, call our office at 785-625-4202.
URL:https://help4abuse.org/event/hays-support-group-adult-domestic-violence-63/
LOCATION:Options Hays Office\, 2716 Plaza Ave\, Hays\, KS\, 67601\, United States
END:VEVENT
BEGIN:VEVENT
DTSTART;TZID=America/Chicago:20251230T173000
DTEND;TZID=America/Chicago:20251230T190000
DTSTAMP:20260422T173430
CREATED:20251125T153036Z
LAST-MODIFIED:20251125T153036Z
UID:3757-1767115800-1767121200@help4abuse.org
SUMMARY:Colby Support Group – Adult Domestic Violence
DESCRIPTION:Join our domestic violence support group\, a safe and compassionate space for survivors to connect\, share\, and uplift each other. Tuesdays at 5:30pm at our Colby Office\, 1480 W 4th St. (Zoom is available). For more details\, call our office at 785-625-4202
URL:https://help4abuse.org/event/colby-support-group-adult-domestic-violence-61/
LOCATION:Options Colby Office\, 1480 W 4th St\, Colby\, KS\, 67701\, United States
END:VEVENT
BEGIN:VEVENT
DTSTART;TZID=America/Chicago:20251226T183000
DTEND;TZID=America/Chicago:20251226T213000
DTSTAMP:20260422T173430
CREATED:20251125T154242Z
LAST-MODIFIED:20251125T154242Z
UID:3768-1766773800-1766784600@help4abuse.org
SUMMARY:Bingo Night
DESCRIPTION:Join us for a fun evening of community bingo at The Heritage Eatery & Bingo! Enjoy great food\, good company\, and a lively game night. All while supporting Options and the survivors we serve. Everyone is welcome!
URL:https://help4abuse.org/event/bingo-night-3/
LOCATION:The Heritage Eatery & Bingo\, 2450 E 8th St\, Hays\, KS\, 67601\, United States
END:VEVENT
BEGIN:VEVENT
DTSTART;VALUE=DATE:20251225
DTEND;VALUE=DATE:20251226
DTSTAMP:20260422T173430
CREATED:20251125T153354Z
LAST-MODIFIED:20251125T153354Z
UID:3761-1766620800-1766707199@help4abuse.org
SUMMARY:Office Closure — Christmas Holiday
DESCRIPTION:Both our Colby and Hays offices are closed for the holiday on Wednesday\, December 24th\, and Thursday\, December 25th. Even when our offices are closed\, Options advocates are always available to support you. If you need help\, call our 24/7 helpline at 800-794-4624 or text HELP to 847411.
URL:https://help4abuse.org/event/office-closure-christmas-holiday-2/
LOCATION:KS
END:VEVENT
BEGIN:VEVENT
DTSTART;VALUE=DATE:20251224
DTEND;VALUE=DATE:20251225
DTSTAMP:20260422T173430
CREATED:20251125T153316Z
LAST-MODIFIED:20251125T153316Z
UID:3759-1766534400-1766620799@help4abuse.org
SUMMARY:Office Closure — Christmas Holiday
DESCRIPTION:Both our Colby and Hays offices are closed for the holiday on Wednesday\, December 24th\, and Thursday\, December 25th. Even when our offices are closed\, Options advocates are always available to support you. If you need help\, call our 24/7 helpline at 800-794-4624 or text HELP to 847411.
URL:https://help4abuse.org/event/office-closure-christmas-holiday/
LOCATION:KS
END:VEVENT
BEGIN:VEVENT
DTSTART;TZID=America/Chicago:20251223T173000
DTEND;TZID=America/Chicago:20251223T190000
DTSTAMP:20260422T173430
CREATED:20251125T152720Z
LAST-MODIFIED:20251125T152720Z
UID:3749-1766511000-1766516400@help4abuse.org
SUMMARY:Colby Support Group – Adult Domestic Violence
DESCRIPTION:Join our domestic violence support group\, a safe and compassionate space for survivors to connect\, share\, and uplift each other. Tuesdays at 5:30pm at our Colby Office\, 1480 W 4th St. (Zoom is available). For more details\, call our office at 785-625-4202.
URL:https://help4abuse.org/event/colby-support-group-adult-domestic-violence-60/
LOCATION:Options Colby Office\, 1480 W 4th St\, Colby\, KS\, 67701\, United States
END:VEVENT
BEGIN:VEVENT
DTSTART;TZID=America/Chicago:20251217T173000
DTEND;TZID=America/Chicago:20251217T190000
DTSTAMP:20260422T173430
CREATED:20251125T152908Z
LAST-MODIFIED:20251125T152908Z
UID:3753-1765992600-1765998000@help4abuse.org
SUMMARY:Hays Support Group – Adult Domestic Violence
DESCRIPTION:Join our domestic violence support group\, a safe and compassionate space for survivors to connect\, share\, and uplift each other. Wednesdays at 5:30pm at our Hays Office\, 2716 Plaza Ave. (Zoom is available). Childcare can be provided upon request. For more details\, call our office at 785-625-4202.
URL:https://help4abuse.org/event/hays-support-group-adult-domestic-violence-62/
LOCATION:Options Hays Office\, 2716 Plaza Ave\, Hays\, KS\, 67601\, United States
END:VEVENT
BEGIN:VEVENT
DTSTART;TZID=America/Chicago:20251216T173000
DTEND;TZID=America/Chicago:20251216T190000
DTSTAMP:20260422T173430
CREATED:20251125T152631Z
LAST-MODIFIED:20251125T152631Z
UID:3747-1765906200-1765911600@help4abuse.org
SUMMARY:Colby Support Group – Adult Domestic Violence
DESCRIPTION:Join our domestic violence support group\, a safe and compassionate space for survivors to connect\, share\, and uplift each other. Tuesdays at 5:30pm at our Colby Office\, 1480 W 4th St. (Zoom is available). For more details\, call our office at 785-625-4202.
URL:https://help4abuse.org/event/colby-support-group-adult-domestic-violence-59/
LOCATION:Options Colby Office\, 1480 W 4th St\, Colby\, KS\, 67701\, United States
END:VEVENT
BEGIN:VEVENT
DTSTART;TZID=America/Chicago:20251212T183000
DTEND;TZID=America/Chicago:20251212T213000
DTSTAMP:20260422T173430
CREATED:20251125T154129Z
LAST-MODIFIED:20251125T154129Z
UID:3766-1765564200-1765575000@help4abuse.org
SUMMARY:Bingo Night
DESCRIPTION:Join us for a fun evening of community bingo at The Heritage Eatery & Bingo! Enjoy great food\, good company\, and a lively game night. All while supporting Options and the survivors we serve. Everyone is welcome!
URL:https://help4abuse.org/event/bingo-night-2/
LOCATION:The Heritage Eatery & Bingo\, 2450 E 8th St\, Hays\, KS\, 67601\, United States
END:VEVENT
BEGIN:VEVENT
DTSTART;TZID=America/Chicago:20251210T173000
DTEND;TZID=America/Chicago:20251210T190000
DTSTAMP:20260422T173430
CREATED:20251125T152837Z
LAST-MODIFIED:20251125T152837Z
UID:3751-1765387800-1765393200@help4abuse.org
SUMMARY:Hays Support Group – Adult Domestic Violence
DESCRIPTION:Join our domestic violence support group\, a safe and compassionate space for survivors to connect\, share\, and uplift each other. Wednesdays at 5:30pm at our Hays Office\, 2716 Plaza Ave. (Zoom is available). Childcare can be provided upon request. For more details\, call our office at 785-625-4202.
URL:https://help4abuse.org/event/hays-support-group-adult-domestic-violence-61/
LOCATION:Options Hays Office\, 2716 Plaza Ave\, Hays\, KS\, 67601\, United States
END:VEVENT
END:VCALENDAR