BEGIN:VCALENDAR
VERSION:2.0
PRODID:-//Options Domestic &amp; Sexual Violence Services for Northwest Kansas - ECPv6.15.20//NONSGML v1.0//EN
CALSCALE:GREGORIAN
METHOD:PUBLISH
X-WR-CALNAME:Options Domestic &amp; Sexual Violence Services for Northwest Kansas
X-ORIGINAL-URL:https://help4abuse.org
X-WR-CALDESC:Events for Options Domestic &amp; Sexual Violence Services for Northwest Kansas
REFRESH-INTERVAL;VALUE=DURATION:PT1H
X-Robots-Tag:noindex
X-PUBLISHED-TTL:PT1H
BEGIN:VTIMEZONE
TZID:America/Chicago
BEGIN:DAYLIGHT
TZOFFSETFROM:-0600
TZOFFSETTO:-0500
TZNAME:CDT
DTSTART:20230312T080000
END:DAYLIGHT
BEGIN:STANDARD
TZOFFSETFROM:-0500
TZOFFSETTO:-0600
TZNAME:CST
DTSTART:20231105T070000
END:STANDARD
BEGIN:DAYLIGHT
TZOFFSETFROM:-0600
TZOFFSETTO:-0500
TZNAME:CDT
DTSTART:20240310T080000
END:DAYLIGHT
BEGIN:STANDARD
TZOFFSETFROM:-0500
TZOFFSETTO:-0600
TZNAME:CST
DTSTART:20241103T070000
END:STANDARD
BEGIN:DAYLIGHT
TZOFFSETFROM:-0600
TZOFFSETTO:-0500
TZNAME:CDT
DTSTART:20250309T080000
END:DAYLIGHT
BEGIN:STANDARD
TZOFFSETFROM:-0500
TZOFFSETTO:-0600
TZNAME:CST
DTSTART:20251102T070000
END:STANDARD
END:VTIMEZONE
BEGIN:VEVENT
DTSTART;TZID=America/Chicago:20240903T173000
DTEND;TZID=America/Chicago:20240903T190000
DTSTAMP:20260424T085015
CREATED:20240703T205524Z
LAST-MODIFIED:20240703T205524Z
UID:3021-1725384600-1725390000@help4abuse.org
SUMMARY:Colby Support Group - Adult Domestic Violence
DESCRIPTION:Join our domestic violence support group\, a safe and compassionate space for survivors to connect\, share\, and uplift each other. \nTuesdays at 5:30 at our Colby Office\, 1480 W 4th St. (Zoom is available.) \nFor more details\, call our office at 785-625-4202. \n#SupportGroup #Empower #Heal #Thrive #SupportHeals #BreakTheSilence #Solidarity
URL:https://help4abuse.org/event/colby-support-group-adult-domestic-violence-28/
LOCATION:Options Colby Office\, 1480 W 4th St\, Colby\, KS\, 67701\, United States
END:VEVENT
BEGIN:VEVENT
DTSTART;TZID=America/Chicago:20240902T173000
DTEND;TZID=America/Chicago:20240902T190000
DTSTAMP:20260424T085015
CREATED:20240703T204619Z
LAST-MODIFIED:20240703T204619Z
UID:3003-1725298200-1725303600@help4abuse.org
SUMMARY:Sexual Assault Support Group - Adults
DESCRIPTION:Join our sexual assault support group\, a safe and compassionate space for survivors to connect\, share\, and uplift each other. \nMondays at 5:30 at our Colby Office\, 1480 W 4th St. (Zoom is available.) \nFor more details\, call our office at 785-625-4202 \n#SupportGroup #Empower #Heal #Thrive #SupportHeals #BreakTheSilence #Solidarity
URL:https://help4abuse.org/event/sexual-assault-support-group-adults-8/
LOCATION:Options Colby Office\, 1480 W 4th St\, Colby\, KS\, 67701\, United States
END:VEVENT
BEGIN:VEVENT
DTSTART;TZID=America/Chicago:20240828T173000
DTEND;TZID=America/Chicago:20240828T190000
DTSTAMP:20260424T085015
CREATED:20240703T213222Z
LAST-MODIFIED:20240703T213222Z
UID:3035-1724866200-1724871600@help4abuse.org
SUMMARY:Hays Support Group - Adult Domestic Violence
DESCRIPTION:Join our domestic violence support group\, a safe and compassionate space for survivors to connect\, share\, and uplift each other. \nWednesdays at 5:30 at our Hays Office\, 2716 Plaza Ave. (Zoom is available.) \nFor more details\, call our office at 785-625-4202 \n#SupportGroup #Empower #Heal #Thrive #SupportHeals #BreakTheSilence #Solidarity
URL:https://help4abuse.org/event/hays-support-group-adult-domestic-violence-27/
LOCATION:Options Hays Office\, 2716 Plaza Ave\, Hays\, KS\, 67601\, United States
END:VEVENT
BEGIN:VEVENT
DTSTART;TZID=America/Chicago:20240827T173000
DTEND;TZID=America/Chicago:20240827T190000
DTSTAMP:20260424T085015
CREATED:20240703T205431Z
LAST-MODIFIED:20240703T205431Z
UID:3019-1724779800-1724785200@help4abuse.org
SUMMARY:Colby Support Group - Adult Domestic Violence
DESCRIPTION:Join our domestic violence support group\, a safe and compassionate space for survivors to connect\, share\, and uplift each other. \nTuesdays at 5:30 at our Colby Office\, 1480 W 4th St. (Zoom is available.) \nFor more details\, call our office at 785-625-4202. \n#SupportGroup #Empower #Heal #Thrive #SupportHeals #BreakTheSilence #Solidarity
URL:https://help4abuse.org/event/colby-support-group-adult-domestic-violence-27/
LOCATION:Options Colby Office\, 1480 W 4th St\, Colby\, KS\, 67701\, United States
END:VEVENT
BEGIN:VEVENT
DTSTART;TZID=America/Chicago:20240826T170000
DTEND;TZID=America/Chicago:20240826T190000
DTSTAMP:20260424T085015
CREATED:20240703T204524Z
LAST-MODIFIED:20240703T204524Z
UID:3001-1724691600-1724698800@help4abuse.org
SUMMARY:Sexual Assault Support Group - Adults
DESCRIPTION:Join our sexual assault support group\, a safe and compassionate space for survivors to connect\, share\, and uplift each other. \nMondays at 5:30 at our Colby Office\, 1480 W 4th St. (Zoom is available.) \nFor more details\, call our office at 785-625-4202 \n#SupportGroup #Empower #Heal #Thrive #SupportHeals #BreakTheSilence #Solidarity
URL:https://help4abuse.org/event/sexual-assault-support-group-adults-7/
LOCATION:Options Colby Office\, 1480 W 4th St\, Colby\, KS\, 67701\, United States
END:VEVENT
BEGIN:VEVENT
DTSTART;TZID=America/Chicago:20240821T173000
DTEND;TZID=America/Chicago:20240821T190000
DTSTAMP:20260424T085015
CREATED:20240703T213139Z
LAST-MODIFIED:20240703T213139Z
UID:3033-1724261400-1724266800@help4abuse.org
SUMMARY:Hays Support Group - Adult Domestic Violence
DESCRIPTION:Join our domestic violence support group\, a safe and compassionate space for survivors to connect\, share\, and uplift each other. \nWednesdays at 5:30 at our Hays Office\, 2716 Plaza Ave. (Zoom is available.) \nFor more details\, call our office at 785-625-4202 \n#SupportGroup #Empower #Heal #Thrive #SupportHeals #BreakTheSilence #Solidarity
URL:https://help4abuse.org/event/hays-support-group-adult-domestic-violence-26/
LOCATION:Options Hays Office\, 2716 Plaza Ave\, Hays\, KS\, 67601\, United States
END:VEVENT
BEGIN:VEVENT
DTSTART;TZID=America/Chicago:20240820T173000
DTEND;TZID=America/Chicago:20240820T190000
DTSTAMP:20260424T085015
CREATED:20240703T205349Z
LAST-MODIFIED:20240703T205349Z
UID:3017-1724175000-1724180400@help4abuse.org
SUMMARY:Colby Support Group - Adult Domestic Violence
DESCRIPTION:Join our domestic violence support group\, a safe and compassionate space for survivors to connect\, share\, and uplift each other. \nTuesdays at 5:30 at our Colby Office\, 1480 W 4th St. (Zoom is available.) \nFor more details\, call our office at 785-625-4202. \n#SupportGroup #Empower #Heal #Thrive #SupportHeals #BreakTheSilence #Solidarity
URL:https://help4abuse.org/event/colby-support-group-adult-domestic-violence-26/
LOCATION:Options Colby Office\, 1480 W 4th St\, Colby\, KS\, 67701\, United States
END:VEVENT
BEGIN:VEVENT
DTSTART;TZID=America/Chicago:20240819T173000
DTEND;TZID=America/Chicago:20240819T190000
DTSTAMP:20260424T085015
CREATED:20240703T204354Z
LAST-MODIFIED:20240703T204354Z
UID:2998-1724088600-1724094000@help4abuse.org
SUMMARY:Sexual Assault Support Group - Adults
DESCRIPTION:Join our sexual assault support group\, a safe and compassionate space for survivors to connect\, share\, and uplift each other. \nMondays at 5:30 at our Colby Office\, 1480 W 4th St. (Zoom is available.) \nFor more details\, call our office at 785-625-4202 \n#SupportGroup #Empower #Heal #Thrive #SupportHeals #BreakTheSilence #Solidarity
URL:https://help4abuse.org/event/sexual-assault-support-group-adults-6/
LOCATION:Options Colby Office\, 1480 W 4th St\, Colby\, KS\, 67701\, United States
END:VEVENT
BEGIN:VEVENT
DTSTART;TZID=America/Chicago:20240814T173000
DTEND;TZID=America/Chicago:20240814T190000
DTSTAMP:20260424T085015
CREATED:20240703T213051Z
LAST-MODIFIED:20240703T213051Z
UID:3031-1723656600-1723662000@help4abuse.org
SUMMARY:Hays Support Group - Adult Domestic Violence
DESCRIPTION:Join our domestic violence support group\, a safe and compassionate space for survivors to connect\, share\, and uplift each other. \nWednesdays at 5:30 at our Hays Office\, 2716 Plaza Ave. (Zoom is available.) \nFor more details\, call our office at 785-625-4202 \n#SupportGroup #Empower #Heal #Thrive #SupportHeals #BreakTheSilence #Solidarity
URL:https://help4abuse.org/event/hays-support-group-adult-domestic-violence-25/
LOCATION:Options Hays Office\, 2716 Plaza Ave\, Hays\, KS\, 67601\, United States
END:VEVENT
BEGIN:VEVENT
DTSTART;TZID=America/Chicago:20240813T173000
DTEND;TZID=America/Chicago:20240813T190000
DTSTAMP:20260424T085015
CREATED:20240703T205303Z
LAST-MODIFIED:20240703T205303Z
UID:3015-1723570200-1723575600@help4abuse.org
SUMMARY:Colby Support Group - Adult Domestic Violence
DESCRIPTION:Join our domestic violence support group\, a safe and compassionate space for survivors to connect\, share\, and uplift each other. \nTuesdays at 5:30 at our Colby Office\, 1480 W 4th St. (Zoom is available.) \nFor more details\, call our office at 785-625-4202. \n#SupportGroup #Empower #Heal #Thrive #SupportHeals #BreakTheSilence #Solidarity
URL:https://help4abuse.org/event/colby-support-group-adult-domestic-violence-25/
LOCATION:Options Colby Office\, 1480 W 4th St\, Colby\, KS\, 67701\, United States
END:VEVENT
BEGIN:VEVENT
DTSTART;TZID=America/Chicago:20240812T173000
DTEND;TZID=America/Chicago:20240812T190000
DTSTAMP:20260424T085015
CREATED:20240703T204254Z
LAST-MODIFIED:20240703T204254Z
UID:2996-1723483800-1723489200@help4abuse.org
SUMMARY:Sexual Assault Support Group - Adults
DESCRIPTION:Join our sexual assault support group\, a safe and compassionate space for survivors to connect\, share\, and uplift each other. \nMondays at 5:30 at our Colby Office\, 1480 W 4th St. (Zoom is available.) \nFor more details\, call our office at 785-625-4202 \n#SupportGroup #Empower #Heal #Thrive #SupportHeals #BreakTheSilence #Solidarity
URL:https://help4abuse.org/event/sexual-assault-support-group-adults-5/
LOCATION:Options Colby Office\, 1480 W 4th St\, Colby\, KS\, 67701\, United States
END:VEVENT
BEGIN:VEVENT
DTSTART;TZID=America/Chicago:20240807T173000
DTEND;TZID=America/Chicago:20240807T190000
DTSTAMP:20260424T085015
CREATED:20240703T213010Z
LAST-MODIFIED:20240703T213010Z
UID:3029-1723051800-1723057200@help4abuse.org
SUMMARY:Hays Support Group - Adult Domestic Violence
DESCRIPTION:Join our domestic violence support group\, a safe and compassionate space for survivors to connect\, share\, and uplift each other. \nWednesdays at 5:30 at our Hays Office\, 2716 Plaza Ave. (Zoom is available.) \nFor more details\, call our office at 785-625-4202 \n#SupportGroup #Empower #Heal #Thrive #SupportHeals #BreakTheSilence #Solidarity
URL:https://help4abuse.org/event/hays-support-group-adult-domestic-violence-24/
LOCATION:Options Hays Office\, 2716 Plaza Ave\, Hays\, KS\, 67601\, United States
END:VEVENT
BEGIN:VEVENT
DTSTART;TZID=America/Chicago:20240806T173000
DTEND;TZID=America/Chicago:20240806T190000
DTSTAMP:20260424T085015
CREATED:20240703T205221Z
LAST-MODIFIED:20240703T205221Z
UID:3013-1722965400-1722970800@help4abuse.org
SUMMARY:Colby Support Group - Adult Domestic Violence
DESCRIPTION:Join our domestic violence support group\, a safe and compassionate space for survivors to connect\, share\, and uplift each other. \nTuesdays at 5:30 at our Colby Office\, 1480 W 4th St. (Zoom is available.) \nFor more details\, call our office at 785-625-4202. \n#SupportGroup #Empower #Heal #Thrive #SupportHeals #BreakTheSilence #Solidarity
URL:https://help4abuse.org/event/colby-support-group-adult-domestic-violence-24/
LOCATION:Options Colby Office\, 1480 W 4th St\, Colby\, KS\, 67701\, United States
END:VEVENT
BEGIN:VEVENT
DTSTART;TZID=America/Chicago:20240805T173000
DTEND;TZID=America/Chicago:20240805T190000
DTSTAMP:20260424T085015
CREATED:20240703T204209Z
LAST-MODIFIED:20240703T204442Z
UID:2994-1722879000-1722884400@help4abuse.org
SUMMARY:Sexual Assault Support Group - Adults
DESCRIPTION:Join our sexual assault support group\, a safe and compassionate space for survivors to connect\, share\, and uplift each other. \nMondays at 5:30 at our Colby Office\, 1480 W 4th St. (Zoom is available.) \nFor more details\, call our office at 785-625-4202 \n#SupportGroup #Empower #Heal #Thrive #SupportHeals #BreakTheSilence #Solidarity
URL:https://help4abuse.org/event/sexual-assault-support-group-adults-4/
LOCATION:Options Colby Office\, 1480 W 4th St\, Colby\, KS\, 67701\, United States
END:VEVENT
BEGIN:VEVENT
DTSTART;TZID=America/Chicago:20240731T173000
DTEND;TZID=America/Chicago:20240731T190000
DTSTAMP:20260424T085015
CREATED:20240617T135444Z
LAST-MODIFIED:20240617T135444Z
UID:2911-1722447000-1722452400@help4abuse.org
SUMMARY:Hays Support Group - Adult Domestic Violence
DESCRIPTION:Join our domestic violence support group\, a safe and compassionate space for survivors to connect\, share\, and uplift each other. \nWednesdays at 5:30 at our Hays Office\, 2716 Plaza Ave. (Zoom is available.) \nFor more details\, call our office at 785-625-4202 \n#SupportGroup #Empower #Heal #Thrive #SupportHeals #BreakTheSilence #Solidarity
URL:https://help4abuse.org/event/hays-support-group-adult-domestic-violence-23/
LOCATION:Options Hays Office\, 2716 Plaza Ave\, Hays\, KS\, 67601\, United States
END:VEVENT
BEGIN:VEVENT
DTSTART;TZID=America/Chicago:20240730T173000
DTEND;TZID=America/Chicago:20240730T190000
DTSTAMP:20260424T085015
CREATED:20240617T132416Z
LAST-MODIFIED:20240617T132416Z
UID:2891-1722360600-1722366000@help4abuse.org
SUMMARY:Colby Support Group - Adult Domestic Violence
DESCRIPTION:Join our domestic violence support group\, a safe and compassionate space for survivors to connect\, share\, and uplift each other. \nTuesdays at 5:30 at our Colby Office\, 1480 W 4th St. (Zoom is available.) \nFor more details\, call our office at 785-625-4202. \n#SupportGroup #Empower #Heal #Thrive #SupportHeals #BreakTheSilence #Solidarity
URL:https://help4abuse.org/event/colby-support-group-adult-domestic-violence-23/
LOCATION:Options Colby Office\, 1480 W 4th St\, Colby\, KS\, 67701\, United States
END:VEVENT
BEGIN:VEVENT
DTSTART;TZID=America/Chicago:20240729T173000
DTEND;TZID=America/Chicago:20240729T190000
DTSTAMP:20260424T085015
CREATED:20240617T155421Z
LAST-MODIFIED:20240617T155421Z
UID:2927-1722274200-1722279600@help4abuse.org
SUMMARY:Sexual Assault Support Group - Adults
DESCRIPTION:Join our sexual assault support group\, a safe and compassionate space for survivors to connect\, share\, and uplift each other. \nMondays at 5:30 at our Colby Office\, 1480 W 4th St. (Zoom is available.) \nFor more details\, call our office at 785-625-4202 \n#SupportGroup #Empower #Heal #Thrive #SupportHeals #BreakTheSilence #Solidarity
URL:https://help4abuse.org/event/sexual-assault-support-group-adults-3/
LOCATION:Options Colby Office\, 1480 W 4th St\, Colby\, KS\, 67701\, United States
END:VEVENT
BEGIN:VEVENT
DTSTART;TZID=America/Chicago:20240724T173000
DTEND;TZID=America/Chicago:20240724T190000
DTSTAMP:20260424T085015
CREATED:20240617T135408Z
LAST-MODIFIED:20240617T135408Z
UID:2909-1721842200-1721847600@help4abuse.org
SUMMARY:Hays Support Group - Adult Domestic Violence
DESCRIPTION:Join our domestic violence support group\, a safe and compassionate space for survivors to connect\, share\, and uplift each other. \nWednesdays at 5:30 at our Hays Office\, 2716 Plaza Ave. (Zoom is available.) \nFor more details\, call our office at 785-625-4202 \n#SupportGroup #Empower #Heal #Thrive #SupportHeals #BreakTheSilence #Solidarity
URL:https://help4abuse.org/event/hays-support-group-adult-domestic-violence-22/
LOCATION:Options Hays Office\, 2716 Plaza Ave\, Hays\, KS\, 67601\, United States
END:VEVENT
BEGIN:VEVENT
DTSTART;TZID=America/Chicago:20240723T173000
DTEND;TZID=America/Chicago:20240723T190000
DTSTAMP:20260424T085015
CREATED:20240617T132225Z
LAST-MODIFIED:20240617T132225Z
UID:2889-1721755800-1721761200@help4abuse.org
SUMMARY:Colby Support Group - Adult Domestic Violence
DESCRIPTION:Join our domestic violence support group\, a safe and compassionate space for survivors to connect\, share\, and uplift each other. \nTuesdays at 5:30 at our Colby Office\, 1480 W 4th St. (Zoom is available.) \nFor more details\, call our office at 785-625-4202. \n#SupportGroup #Empower #Heal #Thrive #SupportHeals #BreakTheSilence #Solidarity
URL:https://help4abuse.org/event/colby-support-group-adult-domestic-violence-22/
LOCATION:Options Colby Office\, 1480 W 4th St\, Colby\, KS\, 67701\, United States
END:VEVENT
BEGIN:VEVENT
DTSTART;TZID=America/Chicago:20240722T173000
DTEND;TZID=America/Chicago:20240722T190000
DTSTAMP:20260424T085015
CREATED:20240617T155345Z
LAST-MODIFIED:20240617T155345Z
UID:2925-1721669400-1721674800@help4abuse.org
SUMMARY:Sexual Assault Support Group - Adults
DESCRIPTION:Join our sexual assault support group\, a safe and compassionate space for survivors to connect\, share\, and uplift each other. \nMondays at 5:30 at our Colby Office\, 1480 W 4th St. (Zoom is available.) \nFor more details\, call our office at 785-625-4202 \n#SupportGroup #Empower #Heal #Thrive #SupportHeals #BreakTheSilence #Solidarity
URL:https://help4abuse.org/event/sexual-assault-support-group-adults-2/
LOCATION:Options Colby Office\, 1480 W 4th St\, Colby\, KS\, 67701\, United States
END:VEVENT
BEGIN:VEVENT
DTSTART;TZID=America/Chicago:20240717T173000
DTEND;TZID=America/Chicago:20240717T190000
DTSTAMP:20260424T085015
CREATED:20240617T135331Z
LAST-MODIFIED:20240617T135331Z
UID:2907-1721237400-1721242800@help4abuse.org
SUMMARY:Hays Support Group - Adult Domestic Violence
DESCRIPTION:Join our domestic violence support group\, a safe and compassionate space for survivors to connect\, share\, and uplift each other. \nWednesdays at 5:30 at our Hays Office\, 2716 Plaza Ave. (Zoom is available.) \nFor more details\, call our office at 785-625-4202 \n#SupportGroup #Empower #Heal #Thrive #SupportHeals #BreakTheSilence #Solidarity
URL:https://help4abuse.org/event/hays-support-group-adult-domestic-violence-21/
LOCATION:Options Hays Office\, 2716 Plaza Ave\, Hays\, KS\, 67601\, United States
END:VEVENT
BEGIN:VEVENT
DTSTART;TZID=America/Chicago:20240716T173000
DTEND;TZID=America/Chicago:20240716T190000
DTSTAMP:20260424T085015
CREATED:20240617T132128Z
LAST-MODIFIED:20240617T132128Z
UID:2887-1721151000-1721156400@help4abuse.org
SUMMARY:Colby Support Group - Adult Domestic Violence
DESCRIPTION:Join our domestic violence support group\, a safe and compassionate space for survivors to connect\, share\, and uplift each other. \nTuesdays at 5:30 at our Colby Office\, 1480 W 4th St. (Zoom is available.) \nFor more details\, call our office at 785-625-4202. \n#SupportGroup #Empower #Heal #Thrive #SupportHeals #BreakTheSilence #Solidarity
URL:https://help4abuse.org/event/colby-support-group-adult-domestic-violence-21/
LOCATION:Options Colby Office\, 1480 W 4th St\, Colby\, KS\, 67701\, United States
END:VEVENT
BEGIN:VEVENT
DTSTART;TZID=America/Chicago:20240715T173000
DTEND;TZID=America/Chicago:20240715T190000
DTSTAMP:20260424T085015
CREATED:20240617T155228Z
LAST-MODIFIED:20240617T155228Z
UID:2921-1721064600-1721070000@help4abuse.org
SUMMARY:Sexual Assault Support Group - Adults
DESCRIPTION:Join our sexual assault support group\, a safe and compassionate space for survivors to connect\, share\, and uplift each other. \nMondays at 5:30 at our Colby Office\, 1480 W 4th St. (Zoom is available.) \nFor more details\, call our office at 785-625-4202 \n#SupportGroup #Empower #Heal #Thrive #SupportHeals #BreakTheSilence #Solidarity
URL:https://help4abuse.org/event/sexual-assault-support-group-adults/
LOCATION:Options Colby Office\, 1480 W 4th St\, Colby\, KS\, 67701\, United States
END:VEVENT
BEGIN:VEVENT
DTSTART;TZID=America/Chicago:20240710T173000
DTEND;TZID=America/Chicago:20240710T190000
DTSTAMP:20260424T085015
CREATED:20240617T135254Z
LAST-MODIFIED:20240617T135254Z
UID:2905-1720632600-1720638000@help4abuse.org
SUMMARY:Hays Support Group - Adult Domestic Violence
DESCRIPTION:Join our domestic violence support group\, a safe and compassionate space for survivors to connect\, share\, and uplift each other. \nWednesdays at 5:30 at our Hays Office\, 2716 Plaza Ave. (Zoom is available.) \nFor more details\, call our office at 785-625-4202 \n#SupportGroup #Empower #Heal #Thrive #SupportHeals #BreakTheSilence #Solidarity
URL:https://help4abuse.org/event/hays-support-group-adult-domestic-violence-20/
LOCATION:Options Hays Office\, 2716 Plaza Ave\, Hays\, KS\, 67601\, United States
END:VEVENT
BEGIN:VEVENT
DTSTART;TZID=America/Chicago:20240709T173000
DTEND;TZID=America/Chicago:20240709T190000
DTSTAMP:20260424T085015
CREATED:20240617T132044Z
LAST-MODIFIED:20240617T132044Z
UID:2885-1720546200-1720551600@help4abuse.org
SUMMARY:Colby Support Group - Adult Domestic Violence
DESCRIPTION:Join our domestic violence support group\, a safe and compassionate space for survivors to connect\, share\, and uplift each other. \nTuesdays at 5:30 at our Colby Office\, 1480 W 4th St. (Zoom is available.) \nFor more details\, call our office at 785-625-4202. \n#SupportGroup #Empower #Heal #Thrive #SupportHeals #BreakTheSilence #Solidarity
URL:https://help4abuse.org/event/colby-support-group-adult-domestic-violence-20/
LOCATION:Options Colby Office\, 1480 W 4th St\, Colby\, KS\, 67701\, United States
END:VEVENT
BEGIN:VEVENT
DTSTART;TZID=America/Chicago:20240708T173000
DTEND;TZID=America/Chicago:20240708T190000
DTSTAMP:20260424T085015
CREATED:20240617T155138Z
LAST-MODIFIED:20240617T155256Z
UID:2919-1720459800-1720465200@help4abuse.org
SUMMARY:Sexual Assault Support Group - Adults
DESCRIPTION:Join our sexual assault support group\, a safe and compassionate space for survivors to connect\, share\, and uplift each other. \nMondays at 5:30 at our Colby Office\, 1480 W 4th St. (Zoom is available.) \nFor more details\, call our office at 785-625-4202 \n#SupportGroup #Empower #Heal #Thrive #SupportHeals #BreakTheSilence #Solidarity
URL:https://help4abuse.org/event/sexual-assault-support-group-2/
LOCATION:Options Colby Office\, 1480 W 4th St\, Colby\, KS\, 67701\, United States
END:VEVENT
BEGIN:VEVENT
DTSTART;TZID=America/Chicago:20240704T080000
DTEND;TZID=America/Chicago:20240705T170000
DTSTAMP:20260424T085015
CREATED:20240617T160630Z
LAST-MODIFIED:20240617T160644Z
UID:2934-1720080000-1720198800@help4abuse.org
SUMMARY:Offices Closed - Independence Day Holiday
DESCRIPTION:Heads up!\n\nOur offices will be closed on Thursday\, July 4th and Friday\, July 5th in observance of Independence Day.\n\nWe’ll be back to regular office hours on Monday\, July 8th. Our 24-hour services will be available to assist you! https://help4abuse.org/24-hour-services/\n\n#IndependenceDay #4thofJuly #Closed #Weekend #24HourServices #Available #Help #Hope #Healing #Options #BeSafe
URL:https://help4abuse.org/event/offices-closed-today-independence-day-holiday/
LOCATION:KS
END:VEVENT
BEGIN:VEVENT
DTSTART;TZID=America/Chicago:20240703T173000
DTEND;TZID=America/Chicago:20240703T190000
DTSTAMP:20260424T085015
CREATED:20240617T135215Z
LAST-MODIFIED:20240617T135215Z
UID:2903-1720027800-1720033200@help4abuse.org
SUMMARY:Hays Support Group - Adult Domestic Violence
DESCRIPTION:Join our domestic violence support group\, a safe and compassionate space for survivors to connect\, share\, and uplift each other. \nWednesdays at 5:30 at our Hays Office\, 2716 Plaza Ave. (Zoom is available.) \nFor more details\, call our office at 785-625-4202 \n#SupportGroup #Empower #Heal #Thrive #SupportHeals #BreakTheSilence #Solidarity
URL:https://help4abuse.org/event/hays-support-group-adult-domestic-violence-19/
LOCATION:Options Hays Office\, 2716 Plaza Ave\, Hays\, KS\, 67601\, United States
END:VEVENT
BEGIN:VEVENT
DTSTART;TZID=America/Chicago:20240702T173000
DTEND;TZID=America/Chicago:20240702T190000
DTSTAMP:20260424T085015
CREATED:20240617T131730Z
LAST-MODIFIED:20240617T131730Z
UID:2883-1719941400-1719946800@help4abuse.org
SUMMARY:Colby Support Group - Adult Domestic Violence
DESCRIPTION:Join our domestic violence support group\, a safe and compassionate space for survivors to connect\, share\, and uplift each other. \nTuesdays at 5:30 at our Colby Office\, 1480 W 4th St. (Zoom is available.) \nFor more details\, call our office at 785-625-4202. \n#SupportGroup #Empower #Heal #Thrive #SupportHeals #BreakTheSilence #Solidarity
URL:https://help4abuse.org/event/colby-support-group-adult-domestic-violence-19/
LOCATION:Options Colby Office\, 1480 W 4th St\, Colby\, KS\, 67701\, United States
END:VEVENT
BEGIN:VEVENT
DTSTART;TZID=America/Chicago:20240701T173000
DTEND;TZID=America/Chicago:20240701T190000
DTSTAMP:20260424T085015
CREATED:20240617T154223Z
LAST-MODIFIED:20240617T155311Z
UID:2916-1719855000-1719860400@help4abuse.org
SUMMARY:Sexual Assault Support Group - Adults
DESCRIPTION:We’re excited to announce a new Sexual Assault Support Group for survivors in our community. This group is a safe and supportive space to share your experiences\, connect with others who understand\, and find strength on your healing journey. \nMeetings will be held: \n\nMonday Nights from 5:30 – 7:00 PM\nColby Office (1480 W 4th St\, Colby)\nZoom option available!\n\nCall 785-625-4202 for more information or to get the Zoom link. \nPlease share this post with anyone who may be interested. \n\n#SexualAssaultSupport #SupportGroup #Support #YouAreNotAlone #Group #Healing #Assault #Options
URL:https://help4abuse.org/event/sexual-assault-support-group/
LOCATION:Options Colby Office\, 1480 W 4th St\, Colby\, KS\, 67701\, United States
END:VEVENT
END:VCALENDAR