BEGIN:VCALENDAR
VERSION:2.0
PRODID:-//Options Domestic &amp; Sexual Violence Services for Northwest Kansas - ECPv6.15.20//NONSGML v1.0//EN
CALSCALE:GREGORIAN
METHOD:PUBLISH
X-WR-CALNAME:Options Domestic &amp; Sexual Violence Services for Northwest Kansas
X-ORIGINAL-URL:https://help4abuse.org
X-WR-CALDESC:Events for Options Domestic &amp; Sexual Violence Services for Northwest Kansas
REFRESH-INTERVAL;VALUE=DURATION:PT1H
X-Robots-Tag:noindex
X-PUBLISHED-TTL:PT1H
BEGIN:VTIMEZONE
TZID:America/Chicago
BEGIN:DAYLIGHT
TZOFFSETFROM:-0600
TZOFFSETTO:-0500
TZNAME:CDT
DTSTART:20230312T080000
END:DAYLIGHT
BEGIN:STANDARD
TZOFFSETFROM:-0500
TZOFFSETTO:-0600
TZNAME:CST
DTSTART:20231105T070000
END:STANDARD
BEGIN:DAYLIGHT
TZOFFSETFROM:-0600
TZOFFSETTO:-0500
TZNAME:CDT
DTSTART:20240310T080000
END:DAYLIGHT
BEGIN:STANDARD
TZOFFSETFROM:-0500
TZOFFSETTO:-0600
TZNAME:CST
DTSTART:20241103T070000
END:STANDARD
BEGIN:DAYLIGHT
TZOFFSETFROM:-0600
TZOFFSETTO:-0500
TZNAME:CDT
DTSTART:20250309T080000
END:DAYLIGHT
BEGIN:STANDARD
TZOFFSETFROM:-0500
TZOFFSETTO:-0600
TZNAME:CST
DTSTART:20251102T070000
END:STANDARD
END:VTIMEZONE
BEGIN:VEVENT
DTSTART;TZID=America/Chicago:20240708T173000
DTEND;TZID=America/Chicago:20240708T190000
DTSTAMP:20260424T084945
CREATED:20240617T155138Z
LAST-MODIFIED:20240617T155256Z
UID:2919-1720459800-1720465200@help4abuse.org
SUMMARY:Sexual Assault Support Group - Adults
DESCRIPTION:Join our sexual assault support group\, a safe and compassionate space for survivors to connect\, share\, and uplift each other. \nMondays at 5:30 at our Colby Office\, 1480 W 4th St. (Zoom is available.) \nFor more details\, call our office at 785-625-4202 \n#SupportGroup #Empower #Heal #Thrive #SupportHeals #BreakTheSilence #Solidarity
URL:https://help4abuse.org/event/sexual-assault-support-group-2/
LOCATION:Options Colby Office\, 1480 W 4th St\, Colby\, KS\, 67701\, United States
END:VEVENT
BEGIN:VEVENT
DTSTART;TZID=America/Chicago:20240704T080000
DTEND;TZID=America/Chicago:20240705T170000
DTSTAMP:20260424T084945
CREATED:20240617T160630Z
LAST-MODIFIED:20240617T160644Z
UID:2934-1720080000-1720198800@help4abuse.org
SUMMARY:Offices Closed - Independence Day Holiday
DESCRIPTION:Heads up!\n\nOur offices will be closed on Thursday\, July 4th and Friday\, July 5th in observance of Independence Day.\n\nWe’ll be back to regular office hours on Monday\, July 8th. Our 24-hour services will be available to assist you! https://help4abuse.org/24-hour-services/\n\n#IndependenceDay #4thofJuly #Closed #Weekend #24HourServices #Available #Help #Hope #Healing #Options #BeSafe
URL:https://help4abuse.org/event/offices-closed-today-independence-day-holiday/
LOCATION:KS
END:VEVENT
BEGIN:VEVENT
DTSTART;TZID=America/Chicago:20240703T173000
DTEND;TZID=America/Chicago:20240703T190000
DTSTAMP:20260424T084945
CREATED:20240617T135215Z
LAST-MODIFIED:20240617T135215Z
UID:2903-1720027800-1720033200@help4abuse.org
SUMMARY:Hays Support Group - Adult Domestic Violence
DESCRIPTION:Join our domestic violence support group\, a safe and compassionate space for survivors to connect\, share\, and uplift each other. \nWednesdays at 5:30 at our Hays Office\, 2716 Plaza Ave. (Zoom is available.) \nFor more details\, call our office at 785-625-4202 \n#SupportGroup #Empower #Heal #Thrive #SupportHeals #BreakTheSilence #Solidarity
URL:https://help4abuse.org/event/hays-support-group-adult-domestic-violence-19/
LOCATION:Options Hays Office\, 2716 Plaza Ave\, Hays\, KS\, 67601\, United States
END:VEVENT
BEGIN:VEVENT
DTSTART;TZID=America/Chicago:20240702T173000
DTEND;TZID=America/Chicago:20240702T190000
DTSTAMP:20260424T084945
CREATED:20240617T131730Z
LAST-MODIFIED:20240617T131730Z
UID:2883-1719941400-1719946800@help4abuse.org
SUMMARY:Colby Support Group - Adult Domestic Violence
DESCRIPTION:Join our domestic violence support group\, a safe and compassionate space for survivors to connect\, share\, and uplift each other. \nTuesdays at 5:30 at our Colby Office\, 1480 W 4th St. (Zoom is available.) \nFor more details\, call our office at 785-625-4202. \n#SupportGroup #Empower #Heal #Thrive #SupportHeals #BreakTheSilence #Solidarity
URL:https://help4abuse.org/event/colby-support-group-adult-domestic-violence-19/
LOCATION:Options Colby Office\, 1480 W 4th St\, Colby\, KS\, 67701\, United States
END:VEVENT
BEGIN:VEVENT
DTSTART;TZID=America/Chicago:20240701T173000
DTEND;TZID=America/Chicago:20240701T190000
DTSTAMP:20260424T084945
CREATED:20240617T154223Z
LAST-MODIFIED:20240617T155311Z
UID:2916-1719855000-1719860400@help4abuse.org
SUMMARY:Sexual Assault Support Group - Adults
DESCRIPTION:We’re excited to announce a new Sexual Assault Support Group for survivors in our community. This group is a safe and supportive space to share your experiences\, connect with others who understand\, and find strength on your healing journey. \nMeetings will be held: \n\nMonday Nights from 5:30 – 7:00 PM\nColby Office (1480 W 4th St\, Colby)\nZoom option available!\n\nCall 785-625-4202 for more information or to get the Zoom link. \nPlease share this post with anyone who may be interested. \n\n#SexualAssaultSupport #SupportGroup #Support #YouAreNotAlone #Group #Healing #Assault #Options
URL:https://help4abuse.org/event/sexual-assault-support-group/
LOCATION:Options Colby Office\, 1480 W 4th St\, Colby\, KS\, 67701\, United States
END:VEVENT
BEGIN:VEVENT
DTSTART;TZID=America/Chicago:20240701T080000
DTEND;TZID=America/Chicago:20240701T170000
DTSTAMP:20260424T084945
CREATED:20240617T151842Z
LAST-MODIFIED:20240617T151842Z
UID:2913-1719820800-1719853200@help4abuse.org
SUMMARY:New Office Hours
DESCRIPTION:Heads up! Our business hours are changing!\n\nStarting today (July 1st)\, we’ll be open from 9 am to 5 pm\, Monday through Friday.\n\nOur 24-hour services will continue to operate as usual. \n\n#Hours #New #OfficeHours #Announcement #9to5 #Options #Help #Hope #Healing #Services #July #Operation #BusinessHours
URL:https://help4abuse.org/event/new-office-hours/
LOCATION:KS
END:VEVENT
BEGIN:VEVENT
DTSTART;TZID=America/Chicago:20240626T173000
DTEND;TZID=America/Chicago:20240626T190000
DTSTAMP:20260424T084945
CREATED:20240617T135057Z
LAST-MODIFIED:20240617T135057Z
UID:2901-1719423000-1719428400@help4abuse.org
SUMMARY:Hays Support Group - Adult Domestic Violence
DESCRIPTION:Join our domestic violence support group\, a safe and compassionate space for survivors to connect\, share\, and uplift each other. \nWednesdays at 5:30 at our Hays Office\, 2716 Plaza Ave. (Zoom is available.) \nFor more details\, call our office at 785-625-4202 \n#SupportGroup #Empower #Heal #Thrive #SupportHeals #BreakTheSilence #Solidarity
URL:https://help4abuse.org/event/hays-support-group-adult-domestic-violence-18/
LOCATION:Options Hays Office\, 2716 Plaza Ave\, Hays\, KS\, 67601\, United States
END:VEVENT
BEGIN:VEVENT
DTSTART;TZID=America/Chicago:20240625T173000
DTEND;TZID=America/Chicago:20240625T190000
DTSTAMP:20260424T084945
CREATED:20240617T131647Z
LAST-MODIFIED:20240617T131647Z
UID:2881-1719336600-1719342000@help4abuse.org
SUMMARY:Colby Support Group - Adult Domestic Violence
DESCRIPTION:Join our domestic violence support group\, a safe and compassionate space for survivors to connect\, share\, and uplift each other. \nTuesdays at 5:30 at our Colby Office\, 1480 W 4th St. (Zoom is available.) \nFor more details\, call our office at 785-625-4202. \n#SupportGroup #Empower #Heal #Thrive #SupportHeals #BreakTheSilence #Solidarity
URL:https://help4abuse.org/event/colby-support-group-adult-domestic-violence-18/
LOCATION:Options Colby Office\, 1480 W 4th St\, Colby\, KS\, 67701\, United States
END:VEVENT
BEGIN:VEVENT
DTSTART;TZID=America/Chicago:20240622T130000
DTEND;TZID=America/Chicago:20240622T160000
DTSTAMP:20260424T084945
CREATED:20240617T155829Z
LAST-MODIFIED:20240617T160032Z
UID:2929-1719061200-1719072000@help4abuse.org
SUMMARY:Chalk About Pride
DESCRIPTION:Show your PRIDE with chalk! \nJoin us and Hays Pride Public Events on Saturday\, June 22 from 1-4 pm at Frontier Park West! \nExpress yourself with vibrant chalk art and celebrate Pride Month with the LGBTQ+ community. Let’s spread love and unity through creativity and art! \n#ChalkAboutPride #Chalk #HaysPride #LGBTQIA #Community #Hays #Summer #PrideMonth #LoveIsLove #Drawing #Art #Options #EverybodySayLove
URL:https://help4abuse.org/event/chalk-about-pride/
LOCATION:Frontier Park West\, Old Hwy 40\, Hays\, KS\, 67601\, United States
END:VEVENT
BEGIN:VEVENT
DTSTART;TZID=America/Chicago:20240619T080000
DTEND;TZID=America/Chicago:20240619T170000
DTSTAMP:20260424T084945
CREATED:20240617T134929Z
LAST-MODIFIED:20240617T210518Z
UID:2897-1718784000-1718816400@help4abuse.org
SUMMARY:Offices Closed Today - Juneteenth Holiday
DESCRIPTION:Our offices in Hays and Colby are closed today in observance of the Juneteenth Holiday. \nMobile offices in Phillips & Norton Counties are closed today. \nNo Support Group Tonight \nWe apologize for any inconvenience. \nOur next Support Group meeting will be on Wednesday\, June 26th at 5:30 pm.
URL:https://help4abuse.org/event/hays-support-group-adult-domestic-violence-17/
LOCATION:KS
END:VEVENT
BEGIN:VEVENT
DTSTART;TZID=America/Chicago:20240618T173000
DTEND;TZID=America/Chicago:20240618T190000
DTSTAMP:20260424T084945
CREATED:20240617T131601Z
LAST-MODIFIED:20240617T131601Z
UID:2879-1718731800-1718737200@help4abuse.org
SUMMARY:Colby Support Group - Adult Domestic Violence
DESCRIPTION:Join our domestic violence support group\, a safe and compassionate space for survivors to connect\, share\, and uplift each other. \nTuesdays at 5:30 at our Colby Office\, 1480 W 4th St. (Zoom is available.) \nFor more details\, call our office at 785-625-4202. \n#SupportGroup #Empower #Heal #Thrive #SupportHeals #BreakTheSilence #Solidarity
URL:https://help4abuse.org/event/colby-support-group-adult-domestic-violence-17/
LOCATION:Options Colby Office\, 1480 W 4th St\, Colby\, KS\, 67701\, United States
END:VEVENT
BEGIN:VEVENT
DTSTART;TZID=America/Chicago:20240612T173000
DTEND;TZID=America/Chicago:20240612T190000
DTSTAMP:20260424T084945
CREATED:20240617T132625Z
LAST-MODIFIED:20240617T135115Z
UID:2895-1718213400-1718218800@help4abuse.org
SUMMARY:Hays Support Group - Adult Domestic Violence
DESCRIPTION:Join our domestic violence support group\, a safe and compassionate space for survivors to connect\, share\, and uplift each other. \nWednesdays at 5:30 at our Hays Office\, 2716 Plaza Ave. (Zoom is available.) \nFor more details\, call our office at 785-625-4202 \n#SupportGroup #Empower #Heal #Thrive #SupportHeals #BreakTheSilence #Solidarity
URL:https://help4abuse.org/event/hays-support-group-adult-domestic-violence-16/
LOCATION:Options Hays Office\, 2716 Plaza Ave\, Hays\, KS\, 67601\, United States
END:VEVENT
BEGIN:VEVENT
DTSTART;TZID=America/Chicago:20240611T173000
DTEND;TZID=America/Chicago:20240611T190000
DTSTAMP:20260424T084945
CREATED:20240617T131444Z
LAST-MODIFIED:20240617T131444Z
UID:2877-1718127000-1718132400@help4abuse.org
SUMMARY:Colby Support Group - Adult Domestic Violence
DESCRIPTION:Join our domestic violence support group\, a safe and compassionate space for survivors to connect\, share\, and uplift each other. \nTuesdays at 5:30 at our Colby Office\, 1480 W 4th St. (Zoom is available.) \nFor more details\, call our office at 785-625-4202. \n#SupportGroup #Empower #Heal #Thrive #SupportHeals #BreakTheSilence #Solidarity
URL:https://help4abuse.org/event/colby-support-group-adult-domestic-violence-16/
LOCATION:Options Colby Office\, 1480 W 4th St\, Colby\, KS\, 67701\, United States
END:VEVENT
BEGIN:VEVENT
DTSTART;TZID=America/Chicago:20240605T173000
DTEND;TZID=America/Chicago:20240605T190000
DTSTAMP:20260424T084945
CREATED:20240617T132541Z
LAST-MODIFIED:20240617T135131Z
UID:2893-1717608600-1717614000@help4abuse.org
SUMMARY:Hays Support Group - Adult Domestic Violence
DESCRIPTION:Join our domestic violence support group\, a safe and compassionate space for survivors to connect\, share\, and uplift each other. \nWednesdays at 5:30 at our Hays Office\, 2716 Plaza Ave. (Zoom is available.) \nFor more details\, call our office at 785-625-4202 \n#SupportGroup #Empower #Heal #Thrive #SupportHeals #BreakTheSilence #Solidarity
URL:https://help4abuse.org/event/hays-support-group-adult-domestic-violence-12/
LOCATION:Options Hays Office\, 2716 Plaza Ave\, Hays\, KS\, 67601\, United States
END:VEVENT
BEGIN:VEVENT
DTSTART;TZID=America/Chicago:20240604T173000
DTEND;TZID=America/Chicago:20240604T190000
DTSTAMP:20260424T084945
CREATED:20240617T131156Z
LAST-MODIFIED:20240617T131156Z
UID:2875-1717522200-1717527600@help4abuse.org
SUMMARY:Colby Support Group - Adult Domestic Violence
DESCRIPTION:Join our domestic violence support group\, a safe and compassionate space for survivors to connect\, share\, and uplift each other. \nTuesdays at 5:30 at our Colby Office\, 1480 W 4th St. (Zoom is available.) \nFor more details\, call our office at 785-625-4202. \n#SupportGroup #Empower #Heal #Thrive #SupportHeals #BreakTheSilence #Solidarity
URL:https://help4abuse.org/event/colby-support-group-adult-domestic-violence-15/
LOCATION:Options Colby Office\, 1480 W 4th St\, Colby\, KS\, 67701\, United States
END:VEVENT
BEGIN:VEVENT
DTSTART;TZID=America/Chicago:20240529T173000
DTEND;TZID=America/Chicago:20240529T190000
DTSTAMP:20260424T084945
CREATED:20240415T210723Z
LAST-MODIFIED:20240415T210723Z
UID:2737-1717003800-1717009200@help4abuse.org
SUMMARY:Hays Support Group - Adult Domestic Violence
DESCRIPTION:Join our domestic violence support group\, a safe and compassionate space for survivors to connect\, share\, and uplift each other. \nWednesdays at 5:30 at our Hays Office\, 2716 Plaza Ave. (Zoom is available.) \nFor more details\, call our office at 785-625-4202 \n#SupportGroup #Empower #Heal #Thrive #SupportHeals #BreakTheSilence #Solidarity
URL:https://help4abuse.org/event/hays-support-group-adult-domestic-violence-15/
LOCATION:Options Hays Office\, 2716 Plaza Ave\, Hays\, KS\, 67601\, United States
END:VEVENT
BEGIN:VEVENT
DTSTART;TZID=America/Chicago:20240528T173000
DTEND;TZID=America/Chicago:20240528T190000
DTSTAMP:20260424T084945
CREATED:20240415T204710Z
LAST-MODIFIED:20240415T204710Z
UID:2715-1716917400-1716922800@help4abuse.org
SUMMARY:Colby Support Group - Adult Domestic Violence
DESCRIPTION:Join our domestic violence support group\, a safe and compassionate space for survivors to connect\, share\, and uplift each other. \nTuesdays at 5:30 at our Colby Office\, 1480 W 4th St. (Zoom is available.) \nFor more details\, call our office at 785-625-4202. \n#SupportGroup #Empower #Heal #Thrive #SupportHeals #BreakTheSilence #Solidarity
URL:https://help4abuse.org/event/colby-support-group-adult-domestic-violence-14/
LOCATION:Options Colby Office\, 1480 W 4th St\, Colby\, KS\, 67701\, United States
END:VEVENT
BEGIN:VEVENT
DTSTART;TZID=America/Chicago:20240522T173000
DTEND;TZID=America/Chicago:20240522T190000
DTSTAMP:20260424T084945
CREATED:20240415T210628Z
LAST-MODIFIED:20240415T210628Z
UID:2735-1716399000-1716404400@help4abuse.org
SUMMARY:Hays Support Group - Adult Domestic Violence
DESCRIPTION:Join our domestic violence support group\, a safe and compassionate space for survivors to connect\, share\, and uplift each other. \nWednesdays at 5:30 at our Hays Office\, 2716 Plaza Ave. (Zoom is available.) \nFor more details\, call our office at 785-625-4202 \n#SupportGroup #Empower #Heal #Thrive #SupportHeals #BreakTheSilence #Solidarity
URL:https://help4abuse.org/event/hays-support-group-adult-domestic-violence-14/
LOCATION:Options Hays Office\, 2716 Plaza Ave\, Hays\, KS\, 67601\, United States
END:VEVENT
BEGIN:VEVENT
DTSTART;TZID=America/Chicago:20240521T173000
DTEND;TZID=America/Chicago:20240521T190000
DTSTAMP:20260424T084945
CREATED:20240415T204627Z
LAST-MODIFIED:20240415T204627Z
UID:2713-1716312600-1716318000@help4abuse.org
SUMMARY:Colby Support Group - Adult Domestic Violence
DESCRIPTION:Join our domestic violence support group\, a safe and compassionate space for survivors to connect\, share\, and uplift each other. \nTuesdays at 5:30 at our Colby Office\, 1480 W 4th St. (Zoom is available.) \nFor more details\, call our office at 785-625-4202. \n#SupportGroup #Empower #Heal #Thrive #SupportHeals #BreakTheSilence #Solidarity
URL:https://help4abuse.org/event/colby-support-group-adult-domestic-violence-13/
LOCATION:Options Colby Office\, 1480 W 4th St\, Colby\, KS\, 67701\, United States
END:VEVENT
BEGIN:VEVENT
DTSTART;TZID=America/Chicago:20240515T173000
DTEND;TZID=America/Chicago:20240515T190000
DTSTAMP:20260424T084945
CREATED:20240415T210547Z
LAST-MODIFIED:20240415T210547Z
UID:2733-1715794200-1715799600@help4abuse.org
SUMMARY:Hays Support Group - Adult Domestic Violence
DESCRIPTION:Join our domestic violence support group\, a safe and compassionate space for survivors to connect\, share\, and uplift each other. \nWednesdays at 5:30 at our Hays Office\, 2716 Plaza Ave. (Zoom is available.) \nFor more details\, call our office at 785-625-4202 \n#SupportGroup #Empower #Heal #Thrive #SupportHeals #BreakTheSilence #Solidarity
URL:https://help4abuse.org/event/hays-support-group-adult-domestic-violence-13/
LOCATION:Options Hays Office\, 2716 Plaza Ave\, Hays\, KS\, 67601\, United States
END:VEVENT
BEGIN:VEVENT
DTSTART;TZID=America/Chicago:20240514T173000
DTEND;TZID=America/Chicago:20240514T190000
DTSTAMP:20260424T084945
CREATED:20240415T204548Z
LAST-MODIFIED:20240415T204548Z
UID:2711-1715707800-1715713200@help4abuse.org
SUMMARY:Colby Support Group - Adult Domestic Violence
DESCRIPTION:Join our domestic violence support group\, a safe and compassionate space for survivors to connect\, share\, and uplift each other. \nTuesdays at 5:30 at our Colby Office\, 1480 W 4th St. (Zoom is available.) \nFor more details\, call our office at 785-625-4202. \n#SupportGroup #Empower #Heal #Thrive #SupportHeals #BreakTheSilence #Solidarity
URL:https://help4abuse.org/event/colby-support-group-adult-domestic-violence-12/
LOCATION:Options Colby Office\, 1480 W 4th St\, Colby\, KS\, 67701\, United States
END:VEVENT
BEGIN:VEVENT
DTSTART;TZID=America/Chicago:20240513T170000
DTEND;TZID=America/Chicago:20240513T180000
DTSTAMP:20260424T084945
CREATED:20240430T193331Z
LAST-MODIFIED:20240430T193331Z
UID:2767-1715619600-1715623200@help4abuse.org
SUMMARY:Colby Book Club for Teens
DESCRIPTION:We’re launching a Book Club for Teens in Colby!\n\nMeet fellow bookworms and dive into a great book every other Monday at Brewing Up Words (435 N Franklin Ave\, Colby).\n\nOur first meeting will be on May 13th\, at 5:00 pm\, where we’ll be discussing “One of Us Is Lying” by Karen McManus.\n\nFollow our social media for updates! See you there!\n\n#BookClub #Teens #BrewingUpWords #OneofUsIsLying #KarenMcManus #Library #Reading #Club #Books #Options #Mondays #Discussion #Colby
URL:https://help4abuse.org/event/colby-book-club-for-teens/
LOCATION:Brewing Up Words\, 435 N Franklin Ave\, Colby\, KS\, 67701\, United States
END:VEVENT
BEGIN:VEVENT
DTSTART;TZID=America/Chicago:20240508T173000
DTEND;TZID=America/Chicago:20240508T190000
DTSTAMP:20260424T084945
CREATED:20240415T210359Z
LAST-MODIFIED:20240415T210359Z
UID:2729-1715189400-1715194800@help4abuse.org
SUMMARY:Hays Support Group - Adult Domestic Violence
DESCRIPTION:Join our domestic violence support group\, a safe and compassionate space for survivors to connect\, share\, and uplift each other. \nWednesday at 5:30 at our Hays Office\, 2716 Plaza Ave. (Zoom is available.) \nFor more details\, call our office at 785-625-4202 \n#SupportGroup #Empower #Heal #Thrive #SupportHeals #BreakTheSilence #Solidarity
URL:https://help4abuse.org/event/hays-support-group-adult-domestic-violence-11/
LOCATION:Options Hays Office\, 2716 Plaza Ave\, Hays\, KS\, 67601\, United States
END:VEVENT
BEGIN:VEVENT
DTSTART;TZID=America/Chicago:20240507T173000
DTEND;TZID=America/Chicago:20240507T190000
DTSTAMP:20260424T084945
CREATED:20240415T204502Z
LAST-MODIFIED:20240415T204502Z
UID:2709-1715103000-1715108400@help4abuse.org
SUMMARY:Colby Support Group - Adult Domestic Violence
DESCRIPTION:Join our domestic violence support group\, a safe and compassionate space for survivors to connect\, share\, and uplift each other. \nTuesdays at 5:30 at our Colby Office\, 1480 W 4th St. (Zoom is available.) \nFor more details\, call our office at 785-625-4202. \n#SupportGroup #Empower #Heal #Thrive #SupportHeals #BreakTheSilence #Solidarity
URL:https://help4abuse.org/event/colby-support-group-adult-domestic-violence-11/
LOCATION:Options Colby Office\, 1480 W 4th St\, Colby\, KS\, 67701\, United States
END:VEVENT
BEGIN:VEVENT
DTSTART;TZID=America/Chicago:20240504T190000
DTEND;TZID=America/Chicago:20240505T010000
DTSTAMP:20260424T084945
CREATED:20240304T220339Z
LAST-MODIFIED:20240304T220704Z
UID:2604-1714849200-1714870800@help4abuse.org
SUMMARY:Rock Against Rape Concert
DESCRIPTION:Join us for a night of music and making a difference! This concert is an opportunity to come together as a community\, rock out to some great music\, and show our support for ending sexual violence. Stay tuned for more information about the performing artists! \nDate: Saturday\, May 4th\nTime: 7:00 pm – 1:00 am\nLocation: Home Event Center\, 229 W 10th St\, Hays\, KS \nFeaturing:\nCactus Collateral   •   Parl   •   Free Minded\nDangerously Biased   •   Before the Winter
URL:https://help4abuse.org/event/rock-against-rape-concert/
LOCATION:Home Event Center\, 229 W 10th St\, Hays\, KS\, 67601\, United States
END:VEVENT
BEGIN:VEVENT
DTSTART;TZID=America/Chicago:20240501T173000
DTEND;TZID=America/Chicago:20240501T190000
DTSTAMP:20260424T084945
CREATED:20240305T172448Z
LAST-MODIFIED:20240305T172448Z
UID:2628-1714584600-1714590000@help4abuse.org
SUMMARY:Hays Support Group - Adult Domestic Violence
DESCRIPTION:Join our domestic violence support group\, a safe and compassionate space for survivors to connect\, share\, and uplift each other. \nWednesday at 5:30 at our Hays Office\, 2716 Plaza Ave. (Zoom is available.) \nFor more details\, call our office at 785-625-4202 \n#SupportGroup #Empower #Heal #Thrive #SupportHeals #BreakTheSilence #Solidarity
URL:https://help4abuse.org/event/hays-support-group-adult-domestic-violence-10/
LOCATION:Options Hays Office\, 2716 Plaza Ave\, Hays\, KS\, 67601\, United States
END:VEVENT
BEGIN:VEVENT
DTSTART;TZID=America/Chicago:20240430T173000
DTEND;TZID=America/Chicago:20240430T190000
DTSTAMP:20260424T084945
CREATED:20240313T204122Z
LAST-MODIFIED:20240313T204122Z
UID:2659-1714498200-1714503600@help4abuse.org
SUMMARY:Colby Support Group - Adult Domestic Violence
DESCRIPTION:Join our domestic violence support group\, a safe and compassionate space for survivors to connect\, share\, and uplift each other. \nTuesdays at 5:30 at our Colby Office\, 1480 W 4th St. (Zoom is available.) \nFor more details\, call our office at 785-625-4202. \n#SupportGroup #Empower #Heal #Thrive #SupportHeals #BreakTheSilence #Solidarity
URL:https://help4abuse.org/event/colby-support-group-adult-domestic-violence-10/
LOCATION:Options Colby Office\, 1480 W 4th St\, Colby\, KS\, 67701\, United States
END:VEVENT
BEGIN:VEVENT
DTSTART;TZID=America/Chicago:20240428T100000
DTEND;TZID=America/Chicago:20240510T180000
DTSTAMP:20260424T084945
CREATED:20240305T164306Z
LAST-MODIFIED:20240305T164306Z
UID:2611-1714298400-1715364000@help4abuse.org
SUMMARY:What Were YOU Wearing - Russell Public Library
DESCRIPTION:This powerful art installation challenges the harmful myth that the clothing someone is wearing is an invitation for sexual assault. Through the display of clothing worn by survivors at the time of their assault\, the exhibit aims to spark conversation\, raise awareness\, and foster empathy. \nDate: April 28th – May 10th | 10:00 am – 6:00 pm each day (during library business hours)\nLocation: Russell Public Library\, 126 E Wisconsin St\, Russell\, KS \nPlease note: This exhibit may contain sensitive and triggering material for some viewers. An advocate will be available.
URL:https://help4abuse.org/event/what-were-you-wearing-russell-public-library/
LOCATION:Russell Public Library\, 126 E Wisconsin St\, Russell\, KS\, 67665\, United States
END:VEVENT
BEGIN:VEVENT
DTSTART;TZID=America/Chicago:20240427T100000
DTEND;TZID=America/Chicago:20240427T160000
DTSTAMP:20260424T084945
CREATED:20240415T210138Z
LAST-MODIFIED:20240415T210138Z
UID:2725-1714212000-1714233600@help4abuse.org
SUMMARY:Interactive Art Exhibit - Spring Art Walk
DESCRIPTION:Join us during the Hays Arts Council’s Spring Art Walk!\nProcess your emotions and raise awareness about sexual assault through creative expression. This interactive event\, part of Crime Victims’ Rights Week\, invites you to transform a wedding dress and tuxedo into a powerful symbol of healing and empowerment.\nThrough art\, we can:\nExpress the impact of traumaLearn about victim’s rightsEducate our community\nNo artistic experience necessary! All materials and guidance will be provided.\nThis is a safe space for survivors and allies.\nLet’s create something beautiful together.\nOptions Student Advisory Board will also be hosting a bake sale!
URL:https://help4abuse.org/event/interactive-art-exhibit-spring-art-walk/
LOCATION:Farmers Insurance – Chelsy Proehl-Kofoid Agency\, 1012 Main St\, Hays\, KS\, 67601\, United States
END:VEVENT
BEGIN:VEVENT
DTSTART;TZID=America/Chicago:20240425T180000
DTEND;TZID=America/Chicago:20240425T200000
DTSTAMP:20260424T084945
CREATED:20240415T205654Z
LAST-MODIFIED:20240415T205654Z
UID:2721-1714068000-1714075200@help4abuse.org
SUMMARY:Interactive Art Exhibit - Group Healing
DESCRIPTION:Join us for an art healing session after the screening of Audrie & Daisy!\nProcess your emotions and raise awareness about sexual assault through creative expression. This interactive event\, part of Crime Victims’ Rights Week\, invites you to transform a wedding dress and tuxedo into a powerful symbol of healing and empowerment.\nThrough art\, we can:Express the impact of traumaLearn about victim’s rightsEducate our communityNo artistic experience necessary! All materials and guidance will be provided.\nThis is a safe space for survivors and allies.\nLet’s create something beautiful together.
URL:https://help4abuse.org/event/interactive-art-exhibit-group-healing/
LOCATION:Hays Outdoor Pavilion\, 117 E 10th St\, Hays\, KS\, 67601\, United States
END:VEVENT
END:VCALENDAR