BEGIN:VCALENDAR
VERSION:2.0
PRODID:-//Options Domestic &amp; Sexual Violence Services for Northwest Kansas - ECPv6.15.20//NONSGML v1.0//EN
CALSCALE:GREGORIAN
METHOD:PUBLISH
X-WR-CALNAME:Options Domestic &amp; Sexual Violence Services for Northwest Kansas
X-ORIGINAL-URL:https://help4abuse.org
X-WR-CALDESC:Events for Options Domestic &amp; Sexual Violence Services for Northwest Kansas
REFRESH-INTERVAL;VALUE=DURATION:PT1H
X-Robots-Tag:noindex
X-PUBLISHED-TTL:PT1H
BEGIN:VTIMEZONE
TZID:America/Chicago
BEGIN:DAYLIGHT
TZOFFSETFROM:-0600
TZOFFSETTO:-0500
TZNAME:CDT
DTSTART:20230312T080000
END:DAYLIGHT
BEGIN:STANDARD
TZOFFSETFROM:-0500
TZOFFSETTO:-0600
TZNAME:CST
DTSTART:20231105T070000
END:STANDARD
BEGIN:DAYLIGHT
TZOFFSETFROM:-0600
TZOFFSETTO:-0500
TZNAME:CDT
DTSTART:20240310T080000
END:DAYLIGHT
BEGIN:STANDARD
TZOFFSETFROM:-0500
TZOFFSETTO:-0600
TZNAME:CST
DTSTART:20241103T070000
END:STANDARD
BEGIN:DAYLIGHT
TZOFFSETFROM:-0600
TZOFFSETTO:-0500
TZNAME:CDT
DTSTART:20250309T080000
END:DAYLIGHT
BEGIN:STANDARD
TZOFFSETFROM:-0500
TZOFFSETTO:-0600
TZNAME:CST
DTSTART:20251102T070000
END:STANDARD
BEGIN:DAYLIGHT
TZOFFSETFROM:-0600
TZOFFSETTO:-0500
TZNAME:CDT
DTSTART:20260308T080000
END:DAYLIGHT
BEGIN:STANDARD
TZOFFSETFROM:-0500
TZOFFSETTO:-0600
TZNAME:CST
DTSTART:20261101T070000
END:STANDARD
END:VTIMEZONE
BEGIN:VEVENT
DTSTART;TZID=America/Chicago:20250910T173000
DTEND;TZID=America/Chicago:20250910T190000
DTSTAMP:20260423T234433
CREATED:20250902T151710Z
LAST-MODIFIED:20250902T151710Z
UID:3505-1757525400-1757530800@help4abuse.org
SUMMARY:Hays Support Group – Adult Domestic Violence
DESCRIPTION:Join our domestic violence support group\, a safe and compassionate space for survivors to connect\, share\, and uplift each other. Wednesdays at 5:30 at our Hays Office\, 2716 Plaza Ave. (Zoom is available). Childcare is provided! For more details\, call our office at 785-625-4202
URL:https://help4abuse.org/event/hays-support-group-adult-domestic-violence-48/
LOCATION:Options Hays Office\, 2716 Plaza Ave\, Hays\, KS\, 67601\, United States
END:VEVENT
BEGIN:VEVENT
DTSTART;TZID=America/Chicago:20250909T173000
DTEND;TZID=America/Chicago:20250909T190000
DTSTAMP:20260423T234433
CREATED:20250902T151242Z
LAST-MODIFIED:20250902T151242Z
UID:3495-1757439000-1757444400@help4abuse.org
SUMMARY:Colby Support Group – Adult Domestic Violence
DESCRIPTION:Join our domestic violence support group\, a safe and compassionate space for survivors to connect\, share\, and uplift each other. Tuesdays at 5:30pm at our Colby Office\, 1480 W 4th St. (Zoom is available). For more details\, call our office at 785-625-4202
URL:https://help4abuse.org/event/colby-support-group-adult-domestic-violence-45/
LOCATION:Options Colby Office\, 1480 W 4th St\, Colby\, KS\, 67701\, United States
END:VEVENT
BEGIN:VEVENT
DTSTART;TZID=America/Chicago:20250903T173000
DTEND;TZID=America/Chicago:20250903T190000
DTSTAMP:20260423T234433
CREATED:20250902T151624Z
LAST-MODIFIED:20250902T151624Z
UID:3503-1756920600-1756926000@help4abuse.org
SUMMARY:Hays Support Group – Adult Domestic Violence
DESCRIPTION:Join our domestic violence support group\, a safe and compassionate space for survivors to connect\, share\, and uplift each other. Wednesdays at 5:30 at our Hays Office\, 2716 Plaza Ave. (Zoom is available). Childcare is provided! For more details\, call our office at 785-625-4202
URL:https://help4abuse.org/event/hays-support-group-adult-domestic-violence-47/
LOCATION:Options Hays Office\, 2716 Plaza Ave\, Hays\, KS\, 67601\, United States
END:VEVENT
BEGIN:VEVENT
DTSTART;TZID=America/Chicago:20250902T173000
DTEND;TZID=America/Chicago:20250902T190000
DTSTAMP:20260423T234433
CREATED:20250902T151130Z
LAST-MODIFIED:20250902T151130Z
UID:3493-1756834200-1756839600@help4abuse.org
SUMMARY:Colby Support Group – Adult Domestic Violence
DESCRIPTION:Join our domestic violence support group\, a safe and compassionate space for survivors to connect\, share\, and uplift each other. Tuesdays at 5:30pm at our Colby Office\, 1480 W 4th St. (Zoom is available). For more details\, call our office at 785-625-4202
URL:https://help4abuse.org/event/colby-support-group-adult-domestic-violence-44/
LOCATION:Options Colby Office\, 1480 W 4th St\, Colby\, KS\, 67701\, United States
END:VEVENT
BEGIN:VEVENT
DTSTART;TZID=America/Chicago:20250827T173000
DTEND;TZID=America/Chicago:20250827T190000
DTSTAMP:20260423T234433
CREATED:20250806T154800Z
LAST-MODIFIED:20250806T154800Z
UID:3477-1756315800-1756321200@help4abuse.org
SUMMARY:Hays Support Group – Adult Domestic Violence
DESCRIPTION:Join our domestic violence support group\, a safe and compassionate space for survivors to connect\, share\, and uplift each other. Wednesdays at 5:30 at our Hays Office\, 2716 Plaza Ave. (Zoom is available). Childcare is provided! For more details\, call our office at 785-625-4202
URL:https://help4abuse.org/event/hays-support-group-adult-domestic-violence-46/
LOCATION:Options Hays Office\, 2716 Plaza Ave\, Hays\, KS\, 67601\, United States
END:VEVENT
BEGIN:VEVENT
DTSTART;TZID=America/Chicago:20250826T173000
DTEND;TZID=America/Chicago:20250826T190000
DTSTAMP:20260423T234433
CREATED:20250806T154510Z
LAST-MODIFIED:20250806T154510Z
UID:3471-1756229400-1756234800@help4abuse.org
SUMMARY:Colby Support Group – Adult Domestic Violence
DESCRIPTION:Join our domestic violence support group\, a safe and compassionate space for survivors to connect\, share\, and uplift each other. Tuesdays at 5:30pm at our Colby Office\, 1480 W 4th St. (Zoom is available). For more details\, call our office at 785-625-4202
URL:https://help4abuse.org/event/colby-support-group-adult-domestic-violence-43/
LOCATION:Options Colby Office\, 1480 W 4th St\, Colby\, KS\, 67701\, United States
END:VEVENT
BEGIN:VEVENT
DTSTART;TZID=America/Chicago:20250822T190000
DTEND;TZID=America/Chicago:20250822T203000
DTSTAMP:20260423T234433
CREATED:20250806T153735Z
LAST-MODIFIED:20250806T153735Z
UID:3462-1755889200-1755894600@help4abuse.org
SUMMARY:FHSU NW Tech Back to School Bash
DESCRIPTION:Options will be at the FHSU Northwest Tech in Goodland with free stickers\, socks\, and info about our services! Come say hi and learn how we support students and survivors in your community.
URL:https://help4abuse.org/event/fhsu-nw-tech-back-to-school-bash/
LOCATION:KS
END:VEVENT
BEGIN:VEVENT
DTSTART;TZID=America/Chicago:20250821T160000
DTEND;TZID=America/Chicago:20250821T170000
DTSTAMP:20260423T234433
CREATED:20250806T154140Z
LAST-MODIFIED:20250806T154140Z
UID:3464-1755792000-1755795600@help4abuse.org
SUMMARY:SafeBar Ordinance - Hays City Commission Work Session
DESCRIPTION:Options will be speaking at the Hays City Commission work session about implementing the SafeBar ordinance – a proactive step toward preventing sexual violence in our community. Community support is welcome and encouraged!
URL:https://help4abuse.org/event/safebar-ordinance-hays-city-commission-work-session/
LOCATION:Hays City Hall\, 1507 Main St\,\, Hays\, KS\, 67601\, United States
END:VEVENT
BEGIN:VEVENT
DTSTART;TZID=America/Chicago:20250820T173000
DTEND;TZID=America/Chicago:20250820T190000
DTSTAMP:20260423T234433
CREATED:20250806T154658Z
LAST-MODIFIED:20250806T154658Z
UID:3475-1755711000-1755716400@help4abuse.org
SUMMARY:Hays Support Group – Adult Domestic Violence
DESCRIPTION:Join our domestic violence support group\, a safe and compassionate space for survivors to connect\, share\, and uplift each other. Wednesdays at 5:30 at our Hays Office\, 2716 Plaza Ave. (Zoom is available). Childcare is provided! For more details\, call our office at 785-625-4202
URL:https://help4abuse.org/event/hays-support-group-adult-domestic-violence-45/
LOCATION:Options Hays Office\, 2716 Plaza Ave\, Hays\, KS\, 67601\, United States
END:VEVENT
BEGIN:VEVENT
DTSTART;TZID=America/Chicago:20250820T110000
DTEND;TZID=America/Chicago:20250820T140000
DTSTAMP:20260423T234433
CREATED:20250806T153551Z
LAST-MODIFIED:20250806T153551Z
UID:3460-1755687600-1755698400@help4abuse.org
SUMMARY:Colby Community College "Welcome Back" Block Party
DESCRIPTION:Options will be at the CCC Block Party with free stickers\, socks\, and info about our services! Come say hi and learn how we support students and survivors in your community.
URL:https://help4abuse.org/event/colby-community-college-welcome-back-block-party/
LOCATION:Colby Community College\, 1255 S Range Ave\, Colby\, KS\, 67701\, United States
END:VEVENT
BEGIN:VEVENT
DTSTART;TZID=America/Chicago:20250819T173000
DTEND;TZID=America/Chicago:20250819T190000
DTSTAMP:20260423T234433
CREATED:20250806T154425Z
LAST-MODIFIED:20250806T154425Z
UID:3469-1755624600-1755630000@help4abuse.org
SUMMARY:Colby Support Group – Adult Domestic Violence
DESCRIPTION:Join our domestic violence support group\, a safe and compassionate space for survivors to connect\, share\, and uplift each other. Tuesdays at 5:30pm at our Colby Office\, 1480 W 4th St. (Zoom is available). For more details\, call our office at 785-625-4202
URL:https://help4abuse.org/event/colby-support-group-adult-domestic-violence-42/
LOCATION:KS
END:VEVENT
BEGIN:VEVENT
DTSTART;TZID=America/Chicago:20250818T160000
DTEND;TZID=America/Chicago:20250818T190000
DTSTAMP:20260423T234433
CREATED:20250806T153357Z
LAST-MODIFIED:20250806T153434Z
UID:3457-1755532800-1755543600@help4abuse.org
SUMMARY:FHSU Back 2 School Picnic
DESCRIPTION:Join Options at the FHSU Back 2 School Picnic! Stop by our table for free stickers\, socks\, and information about the support services we offer to students and the community.
URL:https://help4abuse.org/event/fhsu-back-2-school-picnic/
LOCATION:Fort Hays State University\, 600 Park St\, Hays\, KS\, 67601\, United States
END:VEVENT
BEGIN:VEVENT
DTSTART;TZID=America/Chicago:20250813T173000
DTEND;TZID=America/Chicago:20250813T190000
DTSTAMP:20260423T234433
CREATED:20250806T154606Z
LAST-MODIFIED:20250806T154606Z
UID:3473-1755106200-1755111600@help4abuse.org
SUMMARY:Hays Support Group – Adult Domestic Violence
DESCRIPTION:Join our domestic violence support group\, a safe and compassionate space for survivors to connect\, share\, and uplift each other. Wednesdays at 5:30 at our Hays Office\, 2716 Plaza Ave. (Zoom is available). Childcare is provided! For more details\, call our office at 785-625-4202
URL:https://help4abuse.org/event/hays-support-group-adult-domestic-violence-44/
LOCATION:Options Hays Office\, 2716 Plaza Ave\, Hays\, KS\, 67601\, United States
END:VEVENT
BEGIN:VEVENT
DTSTART;TZID=America/Chicago:20250812T173000
DTEND;TZID=America/Chicago:20250812T190000
DTSTAMP:20260423T234433
CREATED:20250806T154352Z
LAST-MODIFIED:20250806T154352Z
UID:3467-1755019800-1755025200@help4abuse.org
SUMMARY:Colby Support Group – Adult Domestic Violence
DESCRIPTION:Join our domestic violence support group\, a safe and compassionate space for survivors to connect\, share\, and uplift each other. Tuesdays at 5:30pm at our Colby Office\, 1480 W 4th St. (Zoom is available). For more details\, call our office at 785-625-4202
URL:https://help4abuse.org/event/colby-support-group-adult-domestic-violence-41/
LOCATION:Options Colby Office\, 1480 W 4th St\, Colby\, KS\, 67701\, United States
END:VEVENT
BEGIN:VEVENT
DTSTART;TZID=America/Chicago:20250806T173000
DTEND;TZID=America/Chicago:20250806T190000
DTSTAMP:20260423T234433
CREATED:20250806T153116Z
LAST-MODIFIED:20250806T153116Z
UID:3455-1754501400-1754506800@help4abuse.org
SUMMARY:Hays Support Group – Adult Domestic Violence
DESCRIPTION:Join our domestic violence support group\, a safe and compassionate space for survivors to connect\, share\, and uplift each other. Wednesdays at 5:30 at our Hays Office\, 2716 Plaza Ave. (Zoom is available). Childcare is provided! For more details\, call our office at 785-625-4202
URL:https://help4abuse.org/event/hays-support-group-adult-domestic-violence-43/
LOCATION:Options Hays Office\, 2716 Plaza Ave\, Hays\, KS\, 67601\, United States
END:VEVENT
BEGIN:VEVENT
DTSTART;TZID=America/Chicago:20250805T173000
DTEND;TZID=America/Chicago:20250805T190000
DTSTAMP:20260423T234433
CREATED:20250806T153030Z
LAST-MODIFIED:20250806T153030Z
UID:3453-1754415000-1754420400@help4abuse.org
SUMMARY:Colby Support Group – Adult Domestic Violence
DESCRIPTION:Join our domestic violence support group\, a safe and compassionate space for survivors to connect\, share\, and uplift each other. Tuesdays at 5:30pm at our Colby Office\, 1480 W 4th St. (Zoom is available). For more details\, call our office at 785-625-4202
URL:https://help4abuse.org/event/colby-support-group-adult-domestic-violence-40/
LOCATION:Options Colby Office\, 1480 W 4th St\, Colby\, KS\, 67701\, United States
END:VEVENT
BEGIN:VEVENT
DTSTART;TZID=America/Chicago:20250730T173000
DTEND;TZID=America/Chicago:20250730T190000
DTSTAMP:20260423T234433
CREATED:20250710T184020Z
LAST-MODIFIED:20250710T184020Z
UID:3425-1753896600-1753902000@help4abuse.org
SUMMARY:Hays Support Group – Adult Domestic Violence
DESCRIPTION:Join our domestic violence support group\, a safe and compassionate space for survivors to connect\, share\, and uplift each other. Wednesdays at 5:30 at our Hays Office\, 2716 Plaza Ave. (Zoom is available). Childcare is provided! For more details\, call our office at 785-625-4202
URL:https://help4abuse.org/event/hays-support-group-adult-domestic-violence-42/
LOCATION:KS
END:VEVENT
BEGIN:VEVENT
DTSTART;TZID=America/Chicago:20250729T173000
DTEND;TZID=America/Chicago:20250729T190000
DTSTAMP:20260423T234433
CREATED:20250710T184531Z
LAST-MODIFIED:20250710T184531Z
UID:3431-1753810200-1753815600@help4abuse.org
SUMMARY:Colby Support Group – Adult Domestic Violence
DESCRIPTION:Join our domestic violence support group\, a safe and compassionate space for survivors to connect\, share\, and uplift each other. Tuesdays at 5:30pm at our Colby Office\, 1480 W 4th St. (Zoom is available). For more details\, call our office at 785-625-4202
URL:https://help4abuse.org/event/colby-support-group-adult-domestic-violence-39/
LOCATION:Options Colby Office\, 1480 W 4th St\, Colby\, KS\, 67701\, United States
END:VEVENT
BEGIN:VEVENT
DTSTART;TZID=America/Chicago:20250723T173000
DTEND;TZID=America/Chicago:20250723T190000
DTSTAMP:20260423T234433
CREATED:20250710T183945Z
LAST-MODIFIED:20250710T183945Z
UID:3423-1753291800-1753297200@help4abuse.org
SUMMARY:Hays Support Group – Adult Domestic Violence
DESCRIPTION:Join our domestic violence support group\, a safe and compassionate space for survivors to connect\, share\, and uplift each other. Wednesdays at 5:30 at our Hays Office\, 2716 Plaza Ave. (Zoom is available). Childcare is provided! For more details\, call our office at 785-625-4202
URL:https://help4abuse.org/event/hays-support-group-adult-domestic-violence-41/
LOCATION:KS
END:VEVENT
BEGIN:VEVENT
DTSTART;TZID=America/Chicago:20250722T173000
DTEND;TZID=America/Chicago:20250722T190000
DTSTAMP:20260423T234433
CREATED:20250710T184444Z
LAST-MODIFIED:20250710T184444Z
UID:3429-1753205400-1753210800@help4abuse.org
SUMMARY:Colby Support Group – Adult Domestic Violence
DESCRIPTION:Join our domestic violence support group\, a safe and compassionate space for survivors to connect\, share\, and uplift each other. Tuesdays at 5:30pm at our Colby Office\, 1480 W 4th St. (Zoom is available). For more details\, call our office at 785-625-4202
URL:https://help4abuse.org/event/colby-support-group-adult-domestic-violence-38/
LOCATION:Options Colby Office\, 1480 W 4th St\, Colby\, KS\, 67701\, United States
END:VEVENT
BEGIN:VEVENT
DTSTART;TZID=America/Chicago:20250722T163000
DTEND;TZID=America/Chicago:20250722T190000
DTSTAMP:20260423T234433
CREATED:20250714T192952Z
LAST-MODIFIED:20250714T192952Z
UID:3433-1753201800-1753210800@help4abuse.org
SUMMARY:Colby Parade and Booth
DESCRIPTION:Come see Options and Jana’s Campaign staff at the Colby Parade from 4:30pm-7pm!
URL:https://help4abuse.org/event/colby-parade-and-booth/
LOCATION:KS
END:VEVENT
BEGIN:VEVENT
DTSTART;TZID=America/Chicago:20250716T173000
DTEND;TZID=America/Chicago:20250716T190000
DTSTAMP:20260423T234433
CREATED:20250710T183858Z
LAST-MODIFIED:20250710T183858Z
UID:3421-1752687000-1752692400@help4abuse.org
SUMMARY:Hays Support Group – Adult Domestic Violence
DESCRIPTION:Join our domestic violence support group\, a safe and compassionate space for survivors to connect\, share\, and uplift each other. Wednesdays at 5:30 at our Hays Office\, 2716 Plaza Ave. (Zoom is available). Childcare is provided! For more details\, call our office at 785-625-4202
URL:https://help4abuse.org/event/hays-support-group-adult-domestic-violence-40/
LOCATION:KS
END:VEVENT
BEGIN:VEVENT
DTSTART;TZID=America/Chicago:20250715T173000
DTEND;TZID=America/Chicago:20250715T190000
DTSTAMP:20260423T234433
CREATED:20250710T184333Z
LAST-MODIFIED:20250710T184333Z
UID:3427-1752600600-1752606000@help4abuse.org
SUMMARY:Colby Support Group – Adult Domestic Violence
DESCRIPTION:Join our domestic violence support group\, a safe and compassionate space for survivors to connect\, share\, and uplift each other. Tuesdays at 5:30pm at our Colby Office\, 1480 W 4th St. (Zoom is available). For more details\, call our office at 785-625-4202
URL:https://help4abuse.org/event/colby-support-group-adult-domestic-violence-37/
LOCATION:Options Colby Office\, 1480 W 4th St\, Colby\, KS\, 67701\, United States
END:VEVENT
BEGIN:VEVENT
DTSTART;TZID=America/Chicago:20250710T100000
DTEND;TZID=America/Chicago:20250710T160000
DTSTAMP:20260423T234433
CREATED:20250624T153730Z
LAST-MODIFIED:20250624T153730Z
UID:3413-1752141600-1752163200@help4abuse.org
SUMMARY:NWKS Teacher Information Fair
DESCRIPTION:Northwest Kansas Educational Service Center is hosting the NWKS Teacher Information Fair! Options will be present to provide information on our services. All educators in NWKS are welcome to attend for free!
URL:https://help4abuse.org/event/nwks-teacher-information-fair/
LOCATION:Colby Community College\, 1255 S Range Ave\, Colby\, KS\, 67701\, United States
END:VEVENT
BEGIN:VEVENT
DTSTART;TZID=America/Chicago:20250709T173000
DTEND;TZID=America/Chicago:20250709T190000
DTSTAMP:20260423T234433
CREATED:20250710T183815Z
LAST-MODIFIED:20250710T183815Z
UID:3419-1752082200-1752087600@help4abuse.org
SUMMARY:Hays Support Group – Adult Domestic Violence
DESCRIPTION:Join our domestic violence support group\, a safe and compassionate space for survivors to connect\, share\, and uplift each other. Wednesdays at 5:30 at our Hays Office\, 2716 Plaza Ave. (Zoom is available). Childcare is provided! For more details\, call our office at 785-625-4202
URL:https://help4abuse.org/event/hays-support-group-adult-domestic-violence-39/
LOCATION:KS
END:VEVENT
BEGIN:VEVENT
DTSTART;TZID=America/Chicago:20250702T173000
DTEND;TZID=America/Chicago:20250702T190000
DTSTAMP:20260423T234433
CREATED:20250623T151814Z
LAST-MODIFIED:20250623T151814Z
UID:3408-1751477400-1751482800@help4abuse.org
SUMMARY:Hays Support Group – Adult Domestic Violence
DESCRIPTION:Join our domestic violence support group\, a safe and compassionate space for survivors to connect\, share\, and uplift each other. Wednesdays at 5:30 at our Hays Office\, 2716 Plaza Ave. (Zoom is available.) For more details\, call our office at 785-625-4202
URL:https://help4abuse.org/event/hays-support-group-adult-domestic-violence-38/
LOCATION:Options Hays Office\, 2716 Plaza Ave\, Hays\, KS\, 67601\, United States
END:VEVENT
BEGIN:VEVENT
DTSTART;TZID=America/Chicago:20250625T173000
DTEND;TZID=America/Chicago:20250625T190000
DTSTAMP:20260423T234433
CREATED:20250623T151605Z
LAST-MODIFIED:20250623T151605Z
UID:3406-1750872600-1750878000@help4abuse.org
SUMMARY:Hays Support Group – Adult Domestic Violence
DESCRIPTION:Join our domestic violence support group\, a safe and compassionate space for survivors to connect\, share\, and uplift each other. Wednesdays at 5:30 at our Hays Office\, 2716 Plaza Ave. (Zoom is available.) For more details\, call our office at 785-625-4202
URL:https://help4abuse.org/event/hays-support-group-adult-domestic-violence-37/
LOCATION:Options Hays Office\, 2716 Plaza Ave\, Hays\, KS\, 67601\, United States
END:VEVENT
BEGIN:VEVENT
DTSTART;TZID=America/Chicago:20250621T120000
DTEND;TZID=America/Chicago:20250621T160000
DTSTAMP:20260423T234433
CREATED:20250623T152035Z
LAST-MODIFIED:20250623T152035Z
UID:3410-1750507200-1750521600@help4abuse.org
SUMMARY:Chalk About Pride
DESCRIPTION:Join Options in collaboration with hays pride to celebrate Pride Month by sharing messages\, words\, and drawings of safe\, positive\, and healthy LGBTQ+ relationships.
URL:https://help4abuse.org/event/chalk-about-pride-2/
LOCATION:Frontier Park North\, Hays\, Kansas
END:VEVENT
BEGIN:VEVENT
DTSTART;TZID=America/Chicago:20241030T173000
DTEND;TZID=America/Chicago:20241030T190000
DTSTAMP:20260423T234433
CREATED:20240703T214213Z
LAST-MODIFIED:20240703T214213Z
UID:3053-1730309400-1730314800@help4abuse.org
SUMMARY:Hays Support Group - Adult Domestic Violence
DESCRIPTION:Join our domestic violence support group\, a safe and compassionate space for survivors to connect\, share\, and uplift each other. \nWednesdays at 5:30 at our Hays Office\, 2716 Plaza Ave. (Zoom is available.) \nFor more details\, call our office at 785-625-4202 \n#SupportGroup #Empower #Heal #Thrive #SupportHeals #BreakTheSilence #Solidarity
URL:https://help4abuse.org/event/hays-support-group-adult-domestic-violence-36/
LOCATION:Options Hays Office\, 2716 Plaza Ave\, Hays\, KS\, 67601\, United States
END:VEVENT
BEGIN:VEVENT
DTSTART;TZID=America/Chicago:20241029T173000
DTEND;TZID=America/Chicago:20241029T190000
DTSTAMP:20260423T234433
CREATED:20240703T214940Z
LAST-MODIFIED:20240703T214940Z
UID:3071-1730223000-1730228400@help4abuse.org
SUMMARY:Colby Support Group - Adult Domestic Violence
DESCRIPTION:Join our domestic violence support group\, a safe and compassionate space for survivors to connect\, share\, and uplift each other. \nTuesdays at 5:30 at our Colby Office\, 1480 W 4th St. (Zoom is available.) \nFor more details\, call our office at 785-625-4202. \n#SupportGroup #Empower #Heal #Thrive #SupportHeals #BreakTheSilence #Solidarity
URL:https://help4abuse.org/event/colby-support-group-adult-domestic-violence-36/
LOCATION:Options Colby Office\, 1480 W 4th St\, Colby\, KS\, 67701\, United States
END:VEVENT
END:VCALENDAR