BEGIN:VCALENDAR
VERSION:2.0
PRODID:-//Options Domestic &amp; Sexual Violence Services for Northwest Kansas - ECPv6.15.20//NONSGML v1.0//EN
CALSCALE:GREGORIAN
METHOD:PUBLISH
X-ORIGINAL-URL:https://help4abuse.org
X-WR-CALDESC:Events for Options Domestic &amp; Sexual Violence Services for Northwest Kansas
REFRESH-INTERVAL;VALUE=DURATION:PT1H
X-Robots-Tag:noindex
X-PUBLISHED-TTL:PT1H
BEGIN:VTIMEZONE
TZID:America/Chicago
BEGIN:DAYLIGHT
TZOFFSETFROM:-0600
TZOFFSETTO:-0500
TZNAME:CDT
DTSTART:20250309T080000
END:DAYLIGHT
BEGIN:STANDARD
TZOFFSETFROM:-0500
TZOFFSETTO:-0600
TZNAME:CST
DTSTART:20251102T070000
END:STANDARD
BEGIN:DAYLIGHT
TZOFFSETFROM:-0600
TZOFFSETTO:-0500
TZNAME:CDT
DTSTART:20260308T080000
END:DAYLIGHT
BEGIN:STANDARD
TZOFFSETFROM:-0500
TZOFFSETTO:-0600
TZNAME:CST
DTSTART:20261101T070000
END:STANDARD
BEGIN:DAYLIGHT
TZOFFSETFROM:-0600
TZOFFSETTO:-0500
TZNAME:CDT
DTSTART:20270314T080000
END:DAYLIGHT
BEGIN:STANDARD
TZOFFSETFROM:-0500
TZOFFSETTO:-0600
TZNAME:CST
DTSTART:20271107T070000
END:STANDARD
END:VTIMEZONE
BEGIN:VEVENT
DTSTART;TZID=America/Chicago:20260304T173000
DTEND;TZID=America/Chicago:20260304T190000
DTSTAMP:20260423T064741
CREATED:20260224T221820Z
LAST-MODIFIED:20260224T221820Z
UID:3928-1772645400-1772650800@help4abuse.org
SUMMARY:Hays Support Group – Adult Domestic Violence
DESCRIPTION:Join our domestic violence support group\, a safe and compassionate space for survivors to connect\, share\, and uplift each other. Wednesdays at 5:30pm at our Hays Office\, 2716 Plaza Ave. (Zoom is available). Childcare can be provided upon request. For more details\, call our office at 785-625-4202.
URL:https://help4abuse.org/event/hays-support-group-adult-domestic-violence-72/
LOCATION:Options Hays Office\, 2716 Plaza Ave\, Hays\, KS\, 67601\, United States
END:VEVENT
END:VCALENDAR